BEGIN:VCALENDAR
VERSION:2.0
PRODID:-//ChamberMaster//Event Calendar 2.0//EN
METHOD:PUBLISH
X-PUBLISHED-TTL:P3D
REFRESH-INTERVAL:P3D
CALSCALE:GREGORIAN
BEGIN:VEVENT
DTSTART:20140722T223000Z
DTEND:20140723T020000Z
X-MICROSOFT-CDO-ALLDAYEVENT:FALSE
SUMMARY:Chamber Night with the I-Cubs
DESCRIPTION:Join other Chamber members from around the Metro for a night at the ballpark!\n\nTailgate at 5:30 pm\, game at 7:05 pm.\n\nTicket price: $3.00/person (children over age of three will require a ticket)\n\n\n\nTickets are available for purchase online at www.desmoinesmetro.com/events\n\n\n\nYour Chamber night ticket includes: Pre-game tailgate party in the southwest corner of Principal Park parking lot\, brats\, hot dogs\, chips\, dessert and soda on a first come\, first serve basis.\n\nSeating is general admission.\n\n\n\nRAINCHECK: If a regulation game is not played\, your ticket is good for another regular season game during the 2014 season\, and may be exchanged for an equal priced ticket\, subject to prior\n\nsales\, by either mailing or presenting it at the Iowa Cubs Box Office. Due to limited availability on any given night\, advance exchanges are recommended. The tailgate will not be rescheduled.
X-ALT-DESC;FMTTYPE=text/html:<p>Join other Chamber members from around the Metro for a night at the ballpark!<br />\nTailgate at 5:30 pm\, game at 7:05 pm.<br />\nTicket price: $3.00/person (children over age of three&nbsp\;will require a ticket)<br />\n<br />\nTickets are available for purchase online at <a href="http://www.desmoinesmetro/">www.desmoinesmetro</a><a href="http://www.desmoinesmetro.com/events">.com/events</a><br />\n<br />\nYour Chamber night ticket includes: Pre-game tailgate party in the southwest corner of Principal Park parking lot\, brats\, hot dogs\, chips\, dessert and soda on a first come\, first serve basis.<br />\nSeating is general admission.<br />\n<br />\nRAINCHECK: If a regulation game is not played\, your ticket is good for another regular season game during the 2014 season\, and may be exchanged for an equal priced ticket\, subject to prior<br />\nsales\, by either mailing or presenting it at the Iowa Cubs Box Office. Due to limited availability on any given night\, advance exchanges are recommended. The tailgate will not be rescheduled.</p>\n
LOCATION:Principal Park\, Des Moines
UID:e.1185.3815
SEQUENCE:3
DTSTAMP:20260419T142149Z
URL:http://getaquote-mobile.uniquelyurbandale.com/events/details/chamber-night-with-the-i-cubs-07-22-2014-3815
END:VEVENT

END:VCALENDAR
