BEGIN:VCALENDAR
VERSION:2.0
PRODID:-//ChamberMaster//Event Calendar 2.0//EN
METHOD:PUBLISH
X-PUBLISHED-TTL:P3D
REFRESH-INTERVAL:P3D
CALSCALE:GREGORIAN
BEGIN:VEVENT
DTSTART:20150630T223000Z
DTEND:20150701T020000Z
X-MICROSOFT-CDO-ALLDAYEVENT:FALSE
SUMMARY:Chamber Night with the I-Cubs
DESCRIPTION:Please join us for Chamber Night at Principal Park!  This event is open to all members of the affiliate Chambers and your friends\, family\, etc. \n\nTuesday\, June 30\, 2015\n\nTailgate at 5:30 pm\, followed by game at 7:05 pm\n\n\n\nTicket price: $3/person\n\n(children over the age of 3 will require a ticket)\n\n\n\nTickets are available for purchase online at desmoinesmetro.com/events\n\n\n\nYour Chamber Night ticket includes: Pre-game tailgate party in the southwest corner of Principal Park parking lot with brats\, hot dogs\, chips\, dessert and soda on a first come\, first serve basis.\n\n\n\nSeating is general admission.
X-ALT-DESC;FMTTYPE=text/html:Please join us for Chamber Night at Principal Park! &nbsp\;This event is open to all members of the affiliate Chambers and your friends\, family\, etc.&nbsp\;<br />\nTuesday\, June 30\, 2015<br />\nTailgate at 5:30 pm\, followed by game at 7:05 pm<br />\n<br />\nTicket price: $3/person<br />\n(children over the age of 3 will require a ticket)<br />\n<br />\n<strong>Tickets are available for purchase online at desmoinesmetro.com/events</strong><br />\n<br />\nYour Chamber Night ticket includes: Pre-game tailgate party in the southwest corner of Principal Park parking lot with brats\, hot dogs\, chips\, dessert and soda on a first come\, first serve basis.<br />\n<br />\nSeating is general admission.
LOCATION:Principal Park
UID:e.1185.4224
SEQUENCE:3
DTSTAMP:20260420T040924Z
URL:http://getaquote-mobile.uniquelyurbandale.com/events/details/chamber-night-with-the-i-cubs-06-30-2015-4224
END:VEVENT

END:VCALENDAR
