BEGIN:VCALENDAR
VERSION:2.0
PRODID:-//ChamberMaster//Event Calendar 2.0//EN
METHOD:PUBLISH
X-PUBLISHED-TTL:P3D
REFRESH-INTERVAL:P3D
CALSCALE:GREGORIAN
BEGIN:VEVENT
DTSTART:20150121T010000Z
DTEND:20150121T040000Z
X-MICROSOFT-CDO-ALLDAYEVENT:FALSE
SUMMARY:Chamber night with Drake Men's Basketball
DESCRIPTION:Drake Men's Basketball Chamber Night\n\nPresented by the Greater Des Moines Partnership and Drake IMG Sports Marketing\n\n\n\nTuesday\, January 20 at 7:05 p.m.\n\nDrake vs. Illinois State\n\n\n\n$6.00 before 12/31/14\n\n$8.00 before 1/19/15\n\n\n\nHOW TO ORDER\n\n Order online at www.GoDrakeBulldogs.com using Special Offers Code "CHAMBER".\n\n Call the Drake Athletics Ticket Office at 515-271-3647 and mention "CHAMBER".\n\n\n\nCHAMBER NIGHT BENEFITS\n\n The two (2) Chamber businesses that purchase the most tickets win the opportunity to select two (2) people each to participate in an in-game activity on Ron Pearson Court!\n\n All Chamber Night attendees will receive an exclusive tour of Shivers Basketball Practice Facility following the game.\n\n Participating Chamber names will appear on the video board during the game.\n\n\n\nQuestions about Chamber Night? Contact Tom Florian\, Assistant Director of Ticket Sales\, at 515-271-4949 or thomas.florian@drake.edu.
X-ALT-DESC;FMTTYPE=text/html:Drake Men&#39\;s Basketball Chamber Night<br />\nPresented by the Greater Des Moines Partnership and Drake IMG Sports Marketing<br />\n<br />\nTuesday\, January 20 at 7:05 p.m.<br />\nDrake vs. Illinois State<br />\n<br />\n$6.00 before 12/31/14<br />\n$8.00 before 1/19/15<br />\n<br />\nHOW TO ORDER<br />\n&bull\;Order online at www.GoDrakeBulldogs.com using Special Offers Code &ldquo\;CHAMBER&rdquo\;.<br />\n&bull\;Call the Drake Athletics Ticket Office at 515-271-3647 and mention &ldquo\;CHAMBER&rdquo\;.<br />\n<br />\nCHAMBER NIGHT BENEFITS<br />\n&bull\;The two (2) Chamber businesses that purchase the most tickets win the opportunity to select two (2) people each to participate in an in-game activity on Ron Pearson Court!<br />\n&bull\;All Chamber Night attendees will receive an exclusive tour of Shivers Basketball Practice Facility following the game.<br />\n&bull\;Participating Chamber names will appear on the video board during the game.<br />\n<br />\nQuestions about Chamber Night? Contact Tom Florian\, Assistant Director of Ticket Sales\, at 515-271-4949 or thomas.florian@drake.edu.
LOCATION:
UID:e.1185.4153
SEQUENCE:3
DTSTAMP:20260419T193352Z
URL:http://getaquote-mobile.uniquelyurbandale.com/events/details/chamber-night-with-drake-men-s-basketball-01-20-2015-4153
END:VEVENT

END:VCALENDAR
