BEGIN:VCALENDAR
VERSION:2.0
PRODID:-//ChamberMaster//Event Calendar 2.0//EN
METHOD:PUBLISH
X-PUBLISHED-TTL:P3D
REFRESH-INTERVAL:P3D
CALSCALE:GREGORIAN
BEGIN:VEVENT
DTSTART:20140802T223000Z
DTEND:20140803T020000Z
X-MICROSOFT-CDO-ALLDAYEVENT:FALSE
SUMMARY:Chamber Night at the Iowa Speedway
DESCRIPTION:Chamber Night at the Iowa Speedway\n\nSaturday\, August 2\n\nIowa Speedway\n\n3333 Rusty Wallace Drive\, Newton\, IA 50208\n\n5:30 p.m. \n\nGreen flag at 7:00 p.m.\n\nThe Iowa Speedway is offering VIP access for Chamber members during the NASCAR Nationwide Series.\n\nYour Chamber Night ticket includes access to the Pre-Race Driver's meeting\, access to Driver Introductions on the Front Stretch of the Race Track\, and watching the race from the comfort of a luxury suite while enjoying food and drink.\n\nTickets are $30 per person.\n\n\n\nRegister HERE
X-ALT-DESC;FMTTYPE=text/html:<p style="color: rgb(119\, 119\, 119)\; font-size: 14px\; line-height: 18px\; margin: 0px 0px 18px\; font-family: RobotoCondensed\, Arial\, sans-serif\; text-align: center\; background-color: rgb(254\, 254\, 254)\;"><span style="font-size:12px\;"><span style="font-family:arial\;"><span class="blackheading" style="border-style: none\; color: black\; font-weight: bold\;">Chamber Night at the Iowa Speedway</span></span></span></p>\n\n<p style="color: rgb(119\, 119\, 119)\; font-size: 14px\; line-height: 18px\; margin: 0px 0px 18px\; font-family: RobotoCondensed\, Arial\, sans-serif\; text-align: center\; background-color: rgb(254\, 254\, 254)\;"><span style="font-size:12px\;"><span style="font-family:arial\;"><em>Saturday\, August 2</em></span></span></p>\n\n<p style="color: rgb(119\, 119\, 119)\; font-size: 14px\; line-height: 18px\; margin: 0px 0px 18px\; font-family: RobotoCondensed\, Arial\, sans-serif\; text-align: center\; background-color: rgb(254\, 254\, 254)\;"><span style="font-size:12px\;"><span style="font-family:arial\;"><i>Iowa Speedway<br />\n3333 Rusty Wallace Drive\, Newton\, IA 50208</i></span></span></p>\n\n<p style="color: rgb(119\, 119\, 119)\; font-size: 14px\; line-height: 18px\; margin: 0px 0px 18px\; font-family: RobotoCondensed\, Arial\, sans-serif\; text-align: center\; background-color: rgb(254\, 254\, 254)\;"><span style="font-size:12px\;"><span style="font-family:arial\;"><strong>5:30 p.m.</strong>&nbsp\;<br />\nGreen flag at&nbsp\;<strong>7:00 p.m.</strong></span></span></p>\n\n<p style="color: rgb(119\, 119\, 119)\; font-size: 14px\; line-height: 18px\; margin: 0px 0px 18px\; font-family: RobotoCondensed\, Arial\, sans-serif\; text-align: center\; background-color: rgb(254\, 254\, 254)\;"><span style="font-size:12px\;"><span style="font-family:arial\;">The Iowa Speedway is offering VIP access for Chamber members during the NASCAR Nationwide Series.</span></span></p>\n\n<p style="color: rgb(119\, 119\, 119)\; font-size: 14px\; line-height: 18px\; margin: 0px 0px 18px\; font-family: RobotoCondensed\, Arial\, sans-serif\; text-align: center\; background-color: rgb(254\, 254\, 254)\;"><span style="font-size:12px\;"><span style="font-family:arial\;">Your Chamber Night ticket includes access to the&nbsp\;<strong>Pre-Race Driver&rsquo\;s meeting</strong>\, access to&nbsp\;<strong>Driver Introductions</strong>&nbsp\;on the Front Stretch of the Race Track\, and watching the race from the comfort of a&nbsp\;<strong>luxury suite while enjoying food and drink</strong>.<br />\nTickets are $30 per person.<br />\n<br />\nRegister <a href="http://www.desmoinesmetro.com/en/calendar/chamber_night_at_the_iowa_speedway/">HERE</a></span></span></p>\n
LOCATION:
UID:e.1185.3927
SEQUENCE:3
DTSTAMP:20260419T115009Z
URL:http://getaquote-mobile.uniquelyurbandale.com/events/details/chamber-night-at-the-iowa-speedway-08-02-2014-3927
END:VEVENT

END:VCALENDAR
