BEGIN:VCALENDAR
VERSION:2.0
PRODID:-//ChamberMaster//Event Calendar 2.0//EN
METHOD:PUBLISH
X-PUBLISHED-TTL:P3D
REFRESH-INTERVAL:P3D
CALSCALE:GREGORIAN
BEGIN:VEVENT
DTSTART:20140419T230000Z
DTEND:20140420T020000Z
X-MICROSOFT-CDO-ALLDAYEVENT:FALSE
SUMMARY:Chamber night at the Barnstormers
DESCRIPTION:CHAMBER NIGHT AT THE IOWA BARNSTORMERS\n\n\n\nSaturday\, April 19\, 2014\n\n6:00 p.m. (game begins at 7:00 p.m.)\n\nWells Fargo Arena\n\nPre-Game Reception at the 3rd floor restaurant on the south end\n\n$20 per person\n\n\n\nJoin the Greater Des Moines Partnership and Affiliate Chambers of Commerce for this chamber outing at the Iowa Barnstormers!\n\nTickets include:\n\nDiscounted ticket price\n\nPre-game networking reception with light appetizers\n\n$2 beer special from 6:00 p.m. until the end of the first quarter\n\nAll kids 18 & under at reception can sign up for a drawing to win a football signed by the Barnstormers\n\n\n\nRegister online at www.desmoinesmetro.com/events.\n\nQuestions? Contact Katie JohnsonMartin by email at kmartin@desmoinesmetro.com\, phone at 515.286.4913.
X-ALT-DESC;FMTTYPE=text/html:CHAMBER NIGHT AT THE&nbsp\;IOWA BARNSTORMERS<br />\n<br />\nSaturday\, April 19\, 2014<br />\n6:00 p.m.&nbsp\;(game begins at 7:00 p.m.)<br />\nWells Fargo Arena<br />\nPre-Game Reception at the 3rd floor restaurant on the south end<br />\n$20 per person<br />\n<br />\nJoin the Greater Des Moines Partnership and Affiliate Chambers of Commerce for this chamber outing at the Iowa Barnstormers!<br />\nTickets include:<br />\nDiscounted ticket price<br />\nPre-game networking reception with light appetizers<br />\n$2 beer special from 6:00 p.m. until the end of the first quarter<br />\nAll kids 18 &amp\; under at reception can sign up for a drawing to win a football signed by the Barnstormers<br />\n<br />\nRegister online at www.desmoinesmetro.com/events.<br />\nQuestions? Contact Katie JohnsonMartin by email at kmartin@desmoinesmetro.com\, phone at 515.286.4913.
LOCATION:Wells Fargo
UID:e.1185.3907
SEQUENCE:3
DTSTAMP:20260419T175804Z
URL:http://getaquote-mobile.uniquelyurbandale.com/events/details/chamber-night-at-the-barnstormers-04-19-2014-3907
END:VEVENT

END:VCALENDAR
