BEGIN:VCALENDAR
VERSION:2.0
PRODID:-//ChamberMaster//Event Calendar 2.0//EN
METHOD:PUBLISH
X-PUBLISHED-TTL:P3D
REFRESH-INTERVAL:P3D
CALSCALE:GREGORIAN
BEGIN:VEVENT
DTSTART:20150619T130000Z
DTEND:20150619T203000Z
X-MICROSOFT-CDO-ALLDAYEVENT:FALSE
SUMMARY:Central Iowa Business & Leadership Conference Sponsored by the Urbandale Chamber of Commerce
DESCRIPTION:Take your 'game' to the next level by attending the Next Level Tour designed for business owners\, executives\, managers\, and supervisors & team members. Keynote speaker\, success coach\, and best-selling author Mitch Matthews will be speaking on "DREAM. THINK. DO." This includes Business Track with planning\, marketing\, and coaching sessions. Leadership Track offers sessions on professional training and coaching tips.\n\nLeadership Track Sessions include: "Leadership is Influence"\, "Are You a Great Connector?"\, and "Leadership Fundamentals".\n\nBusiness Track Sessions include: "The Same is Never Better"\, "Cyber Security for Your Business"\, and "Business Marketing Basics".
X-ALT-DESC;FMTTYPE=text/html:<p style="line-height:18.0pt"><span style="font-family:arial\;"><span style="font-size:14px\;">Take your &#39\;game&#39\; to the next level by attending the Next Level Tour designed for business owners\, executives\, managers\, and supervisors &amp\; team members. Keynote speaker\, success coach\, and best-selling author Mitch Matthews will be speaking on &quot\;DREAM. THINK. DO.&quot\;<span class="apple-converted-space">&nbsp\;</span>This includes&nbsp\;<strong>Business Track</strong>&nbsp\;with planning\, marketing\, and coaching sessions.&nbsp\;<strong>Leadership Track&nbsp\;</strong>offers sessions on professional training and coaching tips.</span></span></p>\n\n<p style="font-family: Georgia\, 'Times New Roman'\, 'Bitstream Charter'\, Times\, serif\; font-size: 16px\; line-height: 24px\;"><span style="font-family:arial\;"><span style="font-size:14px\;">Leadership Track Sessions include: &quot\;Leadership is Influence&quot\;\, &quot\;Are You a Great Connector?&quot\;\, and &quot\;Leadership Fundamentals&quot\;.</span></span></p>\n\n<p style="font-family: Georgia\, 'Times New Roman'\, 'Bitstream Charter'\, Times\, serif\; font-size: 16px\; line-height: 24px\;"><span style="font-family:arial\;"><span style="font-size:14px\;">Business Track Sessions include: &quot\;The Same is Never Better&quot\;\, &quot\;Cyber Security for Your Business&quot\;\, and &quot\;Business Marketing Basics&quot\;.</span></span></p>\n\n<p style="line-height:18.0pt">&nbsp\;</p>\n\n<p style="line-height:18.0pt">&nbsp\;</p>\n\n<p style="line-height:18.0pt"><span style="font-size:11px\;"><span style="font-size:14px\;"><span style="font-family: Georgia\, serif\;"><o:p></o:p></span></span></span></p>\n\n<p style="line-height: 18pt\;"><span style="font-size:11px\;"><span style="font-size:14px\;"><span style="font-family: Georgia\, serif\;">&nbsp\;</span></span></span></p>\n\n<p style="line-height: 18pt\;">&nbsp\;</p>\n\n<p style="line-height: 18pt\;">&nbsp\;</p>\n\n<p style="line-height: 18pt\;">&nbsp\;</p>\n
LOCATION:1055 SW Prairie Trail Parkway Ankeny\, Iowa 50023
UID:e.1185.4225
SEQUENCE:3
DTSTAMP:20260420T024652Z
URL:http://getaquote-mobile.uniquelyurbandale.com/events/details/central-iowa-business-leadership-conference-sponsored-by-the-urbandale-chamber-of-commerce-06-19-2015-4225
END:VEVENT

END:VCALENDAR
