BEGIN:VCALENDAR
VERSION:2.0
PRODID:-//ChamberMaster//Event Calendar 2.0//EN
METHOD:PUBLISH
X-PUBLISHED-TTL:P3D
REFRESH-INTERVAL:P3D
CALSCALE:GREGORIAN
BEGIN:VEVENT
DTSTART:20150129T230000Z
DTEND:20150130T020000Z
X-MICROSOFT-CDO-ALLDAYEVENT:FALSE
SUMMARY:Celebration of Business\, Presented by Van Meter\, Inc.
DESCRIPTION:
X-ALT-DESC;FMTTYPE=text/html:
LOCATION:Community Choice Credit Union Convention Center
UID:e.1185.3746
SEQUENCE:3
DTSTAMP:20260419T193214Z
URL:http://getaquote-mobile.uniquelyurbandale.com/events/details/celebration-of-business-presented-by-van-meter-inc-01-29-2015-3746
END:VEVENT

END:VCALENDAR
