BEGIN:VCALENDAR
VERSION:2.0
PRODID:-//ChamberMaster//Event Calendar 2.0//EN
METHOD:PUBLISH
X-PUBLISHED-TTL:P3D
REFRESH-INTERVAL:P3D
CALSCALE:GREGORIAN
BEGIN:VEVENT
DTSTART:20140206T230000Z
DTEND:20140207T020000Z
X-MICROSOFT-CDO-ALLDAYEVENT:FALSE
SUMMARY:Celebration of Business\, Presented by Allegra Marketing\,Print\,Mail & Van Meter
DESCRIPTION:THIS EVENT IS SOLD OUT!\n\n\n\nA do not miss event!  A flagship event for the Urbandale Chamber\, our Celebration of Business event is scheduled for February 6\, 2014. This event draws more top business professionals than any other event. It is at our Celebration of Business\, the Chamber honors Urbandale's Citizen of the Year\, Business of the Year and Connector of the year. This event draws close to 300 prominent business professionals. and takes place between 5-8 p.m. at Hilton Garden Inn (8600 Northpark Dr). \n\n\n\nCost is $50 to attend.  \n\nFinal deadline to RSVP is January 31st\, 2014.  NO registrations will be taken after this date.  Cancelations must be made by Jan. 31st to receive a refund.\n\n\n\nThank you to our GOLD SPONSOR:  Plaza Florist and our SILVER SPONSOR: Enventis
X-ALT-DESC;FMTTYPE=text/html:<span style="color: rgb(0\, 0\, 0)\; font-family: Arial\, Helvetica\, Verdana\, sans-serif\; font-size: 12px\;">THIS EVENT IS SOLD OUT!<br />\n<br />\nA do not miss event! &nbsp\;A flagship event for the Urbandale Chamber\, our Celebration of Business event is scheduled for February 6\, 2014. This event draws more top business professionals than any other event. It is at our Celebration of Business\, the Chamber honors Urbandale&#39\;s Citizen of the Year\, Business of the Year and Connector of the year. This event draws close to 300 prominent business professionals. and takes place between 5-8 p.m. at Hilton Garden Inn (8600 Northpark Dr).&nbsp\;</span>\n\n<p><br />\n<span style="font-size: 12px\;">Cost is $50 to attend. &nbsp\;</span></p>\n\n<p><span style="font-size: 12px\;">Final deadline to RSVP is January 31st\, 2014.&nbsp\; NO registrations will be taken after this date.&nbsp\; Cancelations must be made by Jan. 31st to receive a refund.<br />\n<br />\nThank you to our GOLD SPONSOR: &nbsp\;Plaza Florist and our SILVER SPONSOR: Enventis</span></p>\n
LOCATION:Hilton Garden Inn (8600 Northpark Dr).
UID:e.1185.3581
SEQUENCE:3
DTSTAMP:20260419T222449Z
URL:http://getaquote-mobile.uniquelyurbandale.com/events/details/celebration-of-business-presented-by-allegra-marketing-print-mail-van-meter-02-06-2014-3581
END:VEVENT

END:VCALENDAR
