BEGIN:VCALENDAR
VERSION:2.0
PRODID:-//ChamberMaster//Event Calendar 2.0//EN
METHOD:PUBLISH
X-PUBLISHED-TTL:P3D
REFRESH-INTERVAL:P3D
CALSCALE:GREGORIAN
BEGIN:VEVENT
DTSTART:20170427T223000Z
DTEND:20170428T003000Z
X-MICROSOFT-CDO-ALLDAYEVENT:FALSE
SUMMARY:Carnival Night at La' James International College
DESCRIPTION:Help us make a Difference! Throughout the month of April & May La' James International College Des Moines will be hosting fun & exciting events in honor of LJIC Massage Therapy Graduate\, Sara Preston who is fighting Hodgkin's Lymphoma. All proceeds from each event will go towards Sara & her 3 beautiful little girls. \n\n\n\nJoin us on April 27fh {5:30-7:30pm} for Night at the Carnival! Grab the kiddos & come enjoy Face Paintings\, Games\, Snacks\, Music & even Karaoke! Free Will Donations are accepted. Again\, all proceeds will be given to Sara Preston. \n\n\n\nIf you can't make it in\, please consider donating online at https://www.gofundme.com/fight-hodgkins-lymphoma
X-ALT-DESC;FMTTYPE=text/html:<span style="color:rgb(75\, 79\, 86)\; font-family:helvetica neue\,helvetica\,arial\,sans-serif\; font-size:14.40000057220459px">Help us make a Difference! Throughout the month of April &amp\; May&nbsp\;</span><a href="https://www.facebook.com/LaJamesInternationalCollegeDesMoines/" style="color: rgb(54\, 88\, 153)\; cursor: pointer\; text-decoration: none\; font-family: 'Helvetica Neue'\, Helvetica\, Arial\, sans-serif\; font-size: 14.40000057220459px\;">La&#39\; James International College Des Moines</a><span style="color:rgb(75\, 79\, 86)\; font-family:helvetica neue\,helvetica\,arial\,sans-serif\; font-size:14.40000057220459px">&nbsp\;will be hosting fun &amp\; exciting events in honor of LJIC Massage Therapy Graduate\, Sara Preston who is fighting Hodgkin&#39\;s Lymphoma. All proceeds from each event will go towards Sara &amp\; her 3 beautiful little girls.&nbsp\;</span><br />\n<br />\n<span style="color:rgb(75\, 79\, 86)\; font-family:helvetica neue\,helvetica\,arial\,sans-serif\; font-size:14.40000057220459px">Join us on April 27fh {5:30-7:30pm} for Night at the Carnival! Grab the kiddos &amp\; come enjoy Face Paintings\, Games\, Snacks\, Music &amp\; even Karaoke! Free Will Donations are accepted. Again\, all proceeds will be given to Sara Preston.&nbsp\;</span><br />\n<br />\n<span style="color:rgb(75\, 79\, 86)\; font-family:helvetica neue\,helvetica\,arial\,sans-serif\; font-size:14.40000057220459px">If you can&#39\;t make it in\, please consider donating online at&nbsp\;</span><a href="https://www.gofundme.com/fight-hodgkins-lymphoma" rel="nofollow nofollow" style="color: rgb(54\, 88\, 153)\; cursor: pointer\; text-decoration: none\; font-family: 'Helvetica Neue'\, Helvetica\, Arial\, sans-serif\; font-size: 14.40000057220459px\;" target="_blank"><span style="font-family:inherit">https://www.gofundme.com/</span>fight-hodgkins-lymphoma</a>
LOCATION:La' James International College 8805 Chamber Blvd. Johnston\, IA
UID:e.1185.5171
SEQUENCE:3
DTSTAMP:20260421T103906Z
URL:http://getaquote-mobile.uniquelyurbandale.com/events/details/carnival-night-at-la-james-international-college-5171
END:VEVENT

END:VCALENDAR
