BEGIN:VCALENDAR
VERSION:2.0
PRODID:-//ChamberMaster//Event Calendar 2.0//EN
METHOD:PUBLISH
X-PUBLISHED-TTL:P3D
REFRESH-INTERVAL:P3D
CALSCALE:GREGORIAN
BEGIN:VEVENT
DTSTART:20160330T000000Z
DTEND:20160330T020000Z
X-MICROSOFT-CDO-ALLDAYEVENT:FALSE
SUMMARY:Caregiving in a world of dementia & Alzheimer's disease
DESCRIPTION:As part of the Embrace Aging series\, Chuck Wurth\, Vice President\, Arbor Springs Management Services\, and moderator Martha Willits\, AARP Iowa State President will discuss caregiving for those with dementia and Alzheimer's disease in this free event that is open to the public.
X-ALT-DESC;FMTTYPE=text/html:As part of the Embrace Aging series\, Chuck Wurth\, Vice President\, Arbor Springs Management Services\, and moderator Martha Willits\, AARP Iowa State President will discuss caregiving for those with dementia and Alzheimer&#39\;s disease in this free event that is open to the public.
LOCATION:Drake University's Olmsted Center\, Sussman Theater 2875 University Avenue Des Moines\, IA 50311
UID:e.1185.4769
SEQUENCE:3
DTSTAMP:20260420T170429Z
URL:http://getaquote-mobile.uniquelyurbandale.com/events/details/caregiving-in-a-world-of-dementia-alzheimer-s-disease-03-29-2016-4769
END:VEVENT

END:VCALENDAR
