BEGIN:VCALENDAR
VERSION:2.0
PRODID:-//ChamberMaster//Event Calendar 2.0//EN
METHOD:PUBLISH
X-PUBLISHED-TTL:P3D
REFRESH-INTERVAL:P3D
CALSCALE:GREGORIAN
BEGIN:VEVENT
DTSTART:20160721T200000Z
DTEND:20160721T230000Z
X-MICROSOFT-CDO-ALLDAYEVENT:FALSE
SUMMARY:Career and Development Event
DESCRIPTION:3 Easy Opportunities for Success: Job Openings / On-Site Interviews / Free Career Advice\n\nCome join The Goodwill Career Connection Center and Willis Auto Campus for our Career and Development Event!
X-ALT-DESC;FMTTYPE=text/html:<span style="color:#1F497D">3 Easy Opportunities for Success:&nbsp\;</span><span style="color:#1F497D">Job Openings / On-Site Interviews / Free Career Advice</span><br />\nCome join The Goodwill Career Connection Center and Willis Auto Campus for our Career and Development Event!<br />\n&nbsp\;<br />\n&nbsp\;
LOCATION:5355 NW 86th St.\, Johnston\, IA
UID:e.1185.4866
SEQUENCE:3
DTSTAMP:20260420T212244Z
URL:http://getaquote-mobile.uniquelyurbandale.com/events/details/career-and-development-event-07-21-2016-4866
END:VEVENT

END:VCALENDAR
