BEGIN:VCALENDAR
VERSION:2.0
PRODID:-//ChamberMaster//Event Calendar 2.0//EN
METHOD:PUBLISH
X-PUBLISHED-TTL:P3D
REFRESH-INTERVAL:P3D
CALSCALE:GREGORIAN
BEGIN:VEVENT
DTSTART:20190302T160000Z
DTEND:20190302T220000Z
X-MICROSOFT-CDO-ALLDAYEVENT:FALSE
SUMMARY:Candeo Wheelchair Basketball Competition
DESCRIPTION:Morning session Drake\, Grand View football teams and the DSM Police and Fire departments compete for traveling trophies and then a championship prize. Afternoon\, social teams (the public can register) compete in wheelchair basketball for a prize. Throughout the event\, Candeo clients share how Candeo has helped them to become a part of their community.\n\nContact: Marcy Davis\n\nEmail: marcy.davis@candeoiowa.org\n\nPhone: 515-259-8120\n\nMore Info: www.candeoiowa.org
X-ALT-DESC;FMTTYPE=text/html:<p style="text-align: left\;">Morning session Drake\, Grand View football teams and the DSM Police and Fire departments compete for traveling trophies and then a championship prize. Afternoon\, social teams (the public can register) compete in wheelchair basketball for a prize. Throughout the event\, Candeo clients share how Candeo has helped them to become a part of their community.</p>\n\n<p style="text-align: left\;">Contact: Marcy Davis<br />\nEmail: marcy.davis@candeoiowa.org<br />\nPhone: 515-259-8120</p>\n\n<p style="text-align: left\;">More Info: www.candeoiowa.org</p>\n
LOCATION:Iowa Center for Higher Education - Activity Center 2280 Bell Ave Des Moines\, IA 50321
UID:e.1185.9684
SEQUENCE:3
DTSTAMP:20260422T202321Z
URL:http://getaquote-mobile.uniquelyurbandale.com/events/details/candeo-wheelchair-basketball-competition-9684
END:VEVENT

END:VCALENDAR
