BEGIN:VCALENDAR
VERSION:2.0
PRODID:-//ChamberMaster//Event Calendar 2.0//EN
METHOD:PUBLISH
X-PUBLISHED-TTL:P3D
REFRESH-INTERVAL:P3D
CALSCALE:GREGORIAN
BEGIN:VEVENT
DTSTART:20160226T000000Z
DTEND:20160226T030000Z
X-MICROSOFT-CDO-ALLDAYEVENT:FALSE
SUMMARY:Camping the Night Away
DESCRIPTION:Children's Cancer Connection kicks off the year with this casual evening of entertainment\, cocktails\, delicious food\, and silent & live auctions filled with items for just about everyone!
X-ALT-DESC;FMTTYPE=text/html:Children&#39\;s Cancer Connection kicks off the year with this casual evening of entertainment\, cocktails\, delicious food\, and silent &amp\; live auctions filled with items for just about everyone!
LOCATION:Royal Flooring 9850 Douglas Ave Urbandale\, IA 50322
UID:e.1185.4668
SEQUENCE:3
DTSTAMP:20260420T152655Z
URL:http://getaquote-mobile.uniquelyurbandale.com/events/details/camping-the-night-away-02-25-2016-4668
END:VEVENT

END:VCALENDAR
