BEGIN:VCALENDAR
VERSION:2.0
PRODID:-//ChamberMaster//Event Calendar 2.0//EN
METHOD:PUBLISH
X-PUBLISHED-TTL:P3D
REFRESH-INTERVAL:P3D
CALSCALE:GREGORIAN
BEGIN:VEVENT
DTSTART:20160220T210000Z
DTEND:20160221T000000Z
X-MICROSOFT-CDO-ALLDAYEVENT:FALSE
SUMMARY:Cabin Fever: Spirits & Sweets
DESCRIPTION:Dare to pair one of a kind mini-tini's mixed by Iowa artisan distillers with bite sized sweets and savory items created by local eateries. Visit with distillers about the process of making spirits with Iowa grains. Complimentary snacks and soft drinks are included. Tickets: $20\, discount for members. www.LHF.org/CabinFever
X-ALT-DESC;FMTTYPE=text/html:Dare to pair one of a kind mini-tini&#39\;s mixed by Iowa artisan distillers with bite sized sweets and savory items created by local eateries. Visit with distillers about the process of making spirits with Iowa grains. Complimentary snacks and soft drinks are included. Tickets: $20\, discount for members. www.LHF.org/CabinFever
LOCATION:Living History Farms 11121 Hickman Rd. Urbandale\, IA 50322
UID:e.1185.4596
SEQUENCE:3
DTSTAMP:20260420T140017Z
URL:http://getaquote-mobile.uniquelyurbandale.com/events/details/cabin-fever-spirits-sweets-02-20-2016-4596
END:VEVENT

END:VCALENDAR
