BEGIN:VCALENDAR
VERSION:2.0
PRODID:-//ChamberMaster//Event Calendar 2.0//EN
METHOD:PUBLISH
X-PUBLISHED-TTL:P3D
REFRESH-INTERVAL:P3D
CALSCALE:GREGORIAN
BEGIN:VEVENT
DTSTART:20160416T200000Z
DTEND:20160416T233000Z
X-MICROSOFT-CDO-ALLDAYEVENT:FALSE
SUMMARY:Cabin Fever: Festival of Cheese
DESCRIPTION:A celebration of the ultimate comfort food - cheese! Grilled cheese sandwiches\, cheesecake\, cheese curds - you get the idea. It's the cheesiest event around. Discover what creative variations local chefs\, Iowa craft cheese makers and local cheese mongers make of these traditional favorites. 2 sessions: 3pm\, 5pm. Tickets: $20\, discount for members. www.LHF.org/CabinFever
X-ALT-DESC;FMTTYPE=text/html:A celebration of the ultimate comfort food - cheese! Grilled cheese sandwiches\, cheesecake\, cheese curds - you get the idea. It&#39\;s the cheesiest event around. Discover what creative variations local chefs\, Iowa craft cheese makers and local cheese mongers make of these traditional favorites. 2 sessions: 3pm\, 5pm. Tickets: $20\, discount for members. www.LHF.org/CabinFever
LOCATION:Living History Farms 11121 Hickman Road Urbandale\, IA 50322
UID:e.1185.4594
SEQUENCE:3
DTSTAMP:20260420T170511Z
URL:http://getaquote-mobile.uniquelyurbandale.com/events/details/cabin-fever-festival-of-cheese-04-16-2016-4594
END:VEVENT

END:VCALENDAR
