BEGIN:VCALENDAR
VERSION:2.0
PRODID:-//ChamberMaster//Event Calendar 2.0//EN
METHOD:PUBLISH
X-PUBLISHED-TTL:P3D
REFRESH-INTERVAL:P3D
CALSCALE:GREGORIAN
BEGIN:VEVENT
DTSTART:20160305T210000Z
DTEND:20160306T003000Z
X-MICROSOFT-CDO-ALLDAYEVENT:FALSE
SUMMARY:Cabin Fever: Beer 'n' Bread
DESCRIPTION:Come meet the people behind your favorite Iowa craft brews\, and explore the art of home-brewing with local experts. Enjoy a variety of micro-brew tastings from across the state\, and sample fresh artisan breads. Complimentary snacks and soft drinks are included. 2 sessions: 3pm\, 5pm. Tickets: $20\, discount for members.
X-ALT-DESC;FMTTYPE=text/html:Come meet the people behind your favorite Iowa craft brews\, and explore the art of home-brewing with local experts. Enjoy a variety of micro-brew tastings from across the state\, and sample fresh artisan breads. Complimentary snacks and soft drinks are included. 2 sessions: 3pm\, 5pm. Tickets: $20\, discount for members.
LOCATION:Living History Farms 11121 Hickman Rd. Urbandale\, IA 50322
UID:e.1185.4595
SEQUENCE:3
DTSTAMP:20260420T153347Z
URL:http://getaquote-mobile.uniquelyurbandale.com/events/details/cabin-fever-beer-n-bread-03-05-2016-4595
END:VEVENT

END:VCALENDAR
