BEGIN:VCALENDAR
VERSION:2.0
PRODID:-//ChamberMaster//Event Calendar 2.0//EN
METHOD:PUBLISH
X-PUBLISHED-TTL:P3D
REFRESH-INTERVAL:P3D
CALSCALE:GREGORIAN
BEGIN:VEVENT
DTSTART:20140605T163000Z
DTEND:20140605T180000Z
X-MICROSOFT-CDO-ALLDAYEVENT:FALSE
SUMMARY:Business Owners Luncheon Featuring Don Short\, Presented by LED Source
DESCRIPTION:For Urbandale Chamber Member Business Owners and Presidents Only! Invitation only.\n\n\n\nWe invite all member business owners and presidents to attend this special luncheon designed with you in mind - you won't want to miss this.  Join us for networking\, lunch and our special guest speaker Don Short\, owner of West End Architectural Salvage. http://www.westendsalvage.com/  \n\n\n\nTime: Thursday\, June 5th from 11:30-1:00 pm\n\nLocation: Embassy Club West (520 Market Street\, West Des Moines)\n\nCost: $25/person
X-ALT-DESC;FMTTYPE=text/html:<span style="font-size:12px\;"><span style="font-family:arial\;">For Urbandale Chamber Member Business Owners and Presidents Only! Invitation only.<br />\n<br />\nWe invite all member business owners and presidents to attend this special luncheon designed with you in mind - you won&#39\;t want to miss this. &nbsp\;Join us for networking\, lunch and our special guest speaker Don Short\, owner of <span style="line-height: 18px\;">West End Architectural Salvage</span>.&nbsp\;</span></span>http://www.westendsalvage.com/&#8203\;&nbsp\;<br />\n<br />\n<span style="font-size:12px\;"><span style="font-family:arial\;">Time: Thursday\, June 5th from 11:30-1:00 pm<br />\nLocation: Embassy Club West (520 Market Street\, West Des Moines)<br />\nCost: $25/person</span></span>
LOCATION:Embassy Club West (520 Market Street\, West Des Moines)
UID:e.1185.3779
SEQUENCE:3
DTSTAMP:20260419T152627Z
URL:http://getaquote-mobile.uniquelyurbandale.com/events/details/business-owners-luncheon-featuring-don-short-presented-by-led-source-06-05-2014-3779
END:VEVENT

END:VCALENDAR
