BEGIN:VCALENDAR
VERSION:2.0
PRODID:-//ChamberMaster//Event Calendar 2.0//EN
METHOD:PUBLISH
X-PUBLISHED-TTL:P3D
REFRESH-INTERVAL:P3D
CALSCALE:GREGORIAN
BEGIN:VEVENT
DTSTART:20141007T130000Z
DTEND:20141007T140000Z
X-MICROSOFT-CDO-ALLDAYEVENT:FALSE
SUMMARY:Business Owners Coffee Connection\, Presented by AO Wealth Advisory
DESCRIPTION:This new series in 2014 provides business owners and presidents the opportunity to connect and discuss current issues as well as potential issues with elected officials three times in 2014. These events are unstructured conversations and take place on October 7th (City Council & Mayor)\, November 11th (focus on School Board)\, and December 2nd (County & State).\n\n\n\nTime: 8-9:00 am\n\nLocation: Urbandale Chamber RODAN Board Room (2830 100th Street\, Ste 110).\n\nCost: Free to attend\, but please register.\n\nPlease note: This series is open to only member business owners and/or presidents of member companies.\n\n\n\nThank you to this month's sponsor: Baitinger Consulting and  Midland Credit Union.
X-ALT-DESC;FMTTYPE=text/html:This new series in 2014 provides business owners and presidents the opportunity to connect and discuss current issues as well as potential issues with elected officials three times in 2014. These events are unstructured conversations and take place on October 7th (City Council &amp\; Mayor)\, November 11th (focus on School Board)\, and December 2nd (County &amp\; State).<br />\n<br />\nTime: 8-9:00 am<br />\nLocation: Urbandale Chamber RODAN Board Room (2830 100th Street\, Ste&nbsp\;110).<br />\nCost: Free to attend\, but please register.<br />\nPlease note: This series is open to only member business owners and/or presidents of member companies.<br />\n<br />\nThank you to this month&#39\;s sponsor: Baitinger Consulting and &nbsp\;Midland Credit Union.
LOCATION:Urbandale Chamber RODAN Board Room (2830 100th Street\, Ste 110).
UID:e.1185.3796
SEQUENCE:3
DTSTAMP:20260419T152636Z
URL:http://getaquote-mobile.uniquelyurbandale.com/events/details/business-owners-coffee-connection-presented-by-ao-wealth-advisory-10-07-2014-3796
END:VEVENT

END:VCALENDAR
