BEGIN:VCALENDAR
VERSION:2.0
PRODID:-//ChamberMaster//Event Calendar 2.0//EN
METHOD:PUBLISH
X-PUBLISHED-TTL:P3D
REFRESH-INTERVAL:P3D
CALSCALE:GREGORIAN
BEGIN:VEVENT
DTSTART:20150715T160000Z
DTEND:20150715T180000Z
X-MICROSOFT-CDO-ALLDAYEVENT:FALSE
SUMMARY:Business Expo Luncheon\, Presented by Consolidated Communications and CenturyLink
DESCRIPTION:This month\, we are combining our monthly membership luncheon with a business expo!  Because of the expo\, this luncheon will start at 11:00 am and end at 1:00 After registration\, you will have the opportunity to visit with many of our Chamber members at their booths.  It's a great way to get to know a lot of new faces and promote your business as well.  After you have talked with our vendors\, we will have a delicious lunch buffet prepared for you and you are welcome to sit and network with other attendees.  Some announcements will be given but we encourage you to take time to talk to our vendors and other attendees.  Bring your business cards and enjoy this great event\, brought to you by the Urbandale Chamber!\n\nLocation:Urbandale High School Cafeteria (7111 Aurora Ave\, Urbandale\, IA 50322)\n\nTime: 11:00-1 pm\n\n\n\nCost: $20/members $30/nonmembers\n\nThank you to this month's co-sponsor: Jiffy Lube\n\n\n\nDeadline to register is 48 hours before event. Any registration that comes in after this deadline will be put on a waiting list and billed an additional $5 (if space allows).\n\nPrepayment is highly encouraged and appreciated.\n\nReservations not kept will be billed.\n\n\n\nRegistrations must be canceled the day prior to the luncheon by 12 pm in order to receive a credit. If not\, you will still be billed. All cancelations must be made over the phone to ensure staff is aware of your cancelation. Thank you.\n\n\n\nThank you to the following businesses who will be participating:Bankers Trust Company- North Office\n\nBeauty Counter\n\nBickford Assisted Living and Memory Care of Urbandale\n\nChristian Photo\n\nDavis Brown Law Firm\n\nEchelon Business Services\, Inc.\n\nEDWARDS\n\nFunky Zebras - Urbandale\n\nFusion Boutique\n\nGophermods\n\nIN the BAG Corporate Cuisine\n\nIowa State University Extension and Outreach Polk County\n\nJones Insurance & Associates\n\nOptimum Chiropractic\n\nPark Place Catering\n\nPlaza Florist\n\nQuality Marble & Tile\n\nR. Jones Collision 1\n\nSalon 86\n\nSam & Louie's Pizza\n\nSEI Security Equipment\, Inc.\n\nShade Tree Auto\n\nShaul & Desmond PLLC\n\nSylvan Learning Centers\n\nTake Shape for Life - Linda Franker\, Certified Health Coach\n\nU.S. Cellular\n\nUpper Iowa University\n\nWebspec Design\n\nWhole Foods Market\n\nWriting Resources\n\nZ's Fresh Start Cleaning Service
X-ALT-DESC;FMTTYPE=text/html:<p><span style="font-size: 12.8000001907349px\; line-height: 16.6399993896484px\;">This month\, we are combining our monthly membership luncheon with a business expo! &nbsp\;Because of the expo\, this luncheon will start at 11:00 am and end at 1:00 After registration\, you will have the opportunity to visit with many of our Chamber members at their booths. &nbsp\;It&#39\;s a great way to get to know a lot of new faces&nbsp\;and promote your business as well. &nbsp\;After you have talked with our vendors\, we will have a delicious lunch buffet prepared for you and you are welcome to sit and network with other attendees. &nbsp\;Some announcements will be given but we encourage you to take time to talk to our vendors and other attendees. &nbsp\;Bring your business cards and enjoy this great event\, brought to you by the&nbsp\;</span>Urbandale<span style="font-size: 12.8000001907349px\; line-height: 16.6399993896484px\;">&nbsp\;Chamber!</span></p>\n\n<p>Location:<span style="color:black\;">Urbandale High School Cafeteria (</span><span style="background-image:initial\;background-attachment:initial\;background-size:initial\;background-origin:initial\;background-clip:initial\;background-position:initial\;background-repeat:initial\;"><span style="color:#222222\;">7111 Aurora Ave\, Urbandale\, IA 50322</span></span>)<br />\nTime: 11:00-1 pm</p>\n\n<p><br />\nCost: $20/members $30/nonmembers</p>\n\n<p>Thank you to this month&#39\;s <u>co-sponsor</u>: Jiffy Lube<br />\n<br />\nDeadline to register is 48 hours before event. Any registration that comes in after this deadline will be put on a waiting list and billed an additional $5 (if space allows).<br />\nPrepayment is highly encouraged and appreciated.<br />\nReservations not kept will be billed.<br />\n<br />\nRegistrations must be canceled the day prior to the luncheon by 12 pm in order to receive a credit. If not\, you will still be billed. All cancelations must be made over the phone to ensure staff is aware of your cancelation. Thank you.<br />\n<br />\nThank you to the following businesses who will be participating:Bankers Trust Company- North Office<br />\nBeauty Counter<br />\nBickford Assisted Living and Memory Care of Urbandale<br />\nChristian Photo<br />\nDavis Brown Law Firm<br />\nEchelon Business Services\, Inc.<br />\nEDWARDS<br />\nFunky Zebras - Urbandale<br />\nFusion Boutique<br />\nGophermods<br />\nIN the BAG Corporate Cuisine<br />\nIowa State University Extension and Outreach Polk County<br />\nJones Insurance &amp\; Associates<br />\nOptimum Chiropractic<br />\nPark Place Catering<br />\nPlaza Florist<br />\nQuality Marble &amp\; Tile<br />\nR. Jones Collision 1<br />\nSalon 86<br />\nSam &amp\; Louie&#39\;s Pizza<br />\nSEI Security Equipment\, Inc.<br />\nShade Tree Auto<br />\nShaul &amp\; Desmond PLLC<br />\nSylvan Learning Centers<br />\nTake Shape for Life - Linda Franker\, Certified Health Coach<br />\nU.S. Cellular<br />\nUpper Iowa University<br />\nWebspec Design<br />\nWhole Foods Market<br />\nWriting Resources<br />\nZ&#39\;s Fresh Start Cleaning Service</p>\n
LOCATION:Urbandale High School (7111 Aurora Ave\, Urbandale\, IA 50322)
UID:e.1185.4029
SEQUENCE:3
DTSTAMP:20260420T054357Z
URL:http://getaquote-mobile.uniquelyurbandale.com/events/details/business-expo-luncheon-presented-by-consolidated-communications-and-centurylink-07-15-2015-4029
END:VEVENT

END:VCALENDAR
