BEGIN:VCALENDAR
VERSION:2.0
PRODID:-//ChamberMaster//Event Calendar 2.0//EN
METHOD:PUBLISH
X-PUBLISHED-TTL:P3D
REFRESH-INTERVAL:P3D
CALSCALE:GREGORIAN
BEGIN:VEVENT
DTSTART:20160712T130000Z
DTEND:20160712T140000Z
X-MICROSOFT-CDO-ALLDAYEVENT:FALSE
SUMMARY:Breakfast\, Business & More in Des Moines
DESCRIPTION:Breakfast\, Business & More is Des Moines' premier morning networking event which allows busy professionals the chance to network and to exchange opportunities. We host quarterly networking events without the membership fees. We'll provide each of you with a registrant list including name\, business name and email address which makes follow-up easy! Your time is extremely valuable\; that's why you can expect our events to keep to the following schedule: 8:00am   8:15am: Register\, grab breakfast and COFFEE! 8:15am   8:45am: Each individual introduces themselves to the large group with their name and the name of their business 8:45am   9am: Open Networking Parking: Free parking is available in a lot across the street and south of the ABI office. The lot is bound by Court Ave on the north and East Sixth and East Fifth on the east and west respectively. The lot can be entered from either East Sixth or East Fifth. Cancellation Policy: Refunds: The registration is refundable for cancellations received in writing 48 hours prior to the event. No refunds will be allowed after that date. Registration is transferable to another person. To cancel or transfer a registration\, you must send written notice to Suzanne Hull by email at suzanne@contemporary-business-solutions.com. Categories: Business & Networking Links: Event details at eventbrite.com! Event details may change at any time\, always check with the event organizer when planning to attend this event or purchase tickets.
X-ALT-DESC;FMTTYPE=text/html:Breakfast\, Business &amp\; More is Des Moines&rsquo\; premier morning networking event which allows busy professionals the chance to network and to exchange opportunities. We host quarterly networking events without the membership fees. We&rsquo\;ll provide each of you with a registrant list including name\, business name and email address which makes follow-up easy! Your time is extremely valuable\; that&rsquo\;s why you can expect our events to keep to the following schedule: 8:00am &ndash\; 8:15am: Register\, grab breakfast and COFFEE! 8:15am &ndash\; 8:45am: Each individual introduces themselves to the large group with their name and the name of their business 8:45am &ndash\; 9am: Open Networking Parking: Free parking is available in a lot across the street and south of the ABI office. The lot is bound by Court Ave on the north and East Sixth and East Fifth on the east and west respectively. The lot can be entered from either East Sixth or East Fifth. Cancellation Policy: Refunds: The registration is refundable for cancellations received in writing 48 hours prior to the event. No refunds will be allowed after that date. Registration is transferable to another person. To cancel or transfer a registration\, you must send written notice to Suzanne Hull by email at suzanne@contemporary-business-solutions.com. Categories: Business &amp\; Networking Links: Event details at eventbrite.com! Event details may change at any time\, always check with the event organizer when planning to attend this event or purchase tickets.
LOCATION:at Iowa Association of Business & Industry Iowa Association of Business & Industry 400 E Court Ave #100 Des Moines\, IA 50309
UID:e.1185.4854
SEQUENCE:3
DTSTAMP:20260420T212440Z
URL:http://getaquote-mobile.uniquelyurbandale.com/events/details/breakfast-business-more-in-des-moines-07-12-2016-4854
END:VEVENT

END:VCALENDAR
