BEGIN:VCALENDAR
VERSION:2.0
PRODID:-//ChamberMaster//Event Calendar 2.0//EN
METHOD:PUBLISH
X-PUBLISHED-TTL:P3D
REFRESH-INTERVAL:P3D
CALSCALE:GREGORIAN
BEGIN:VEVENT
DTSTART:20161011T130000Z
DTEND:20161011T140000Z
X-MICROSOFT-CDO-ALLDAYEVENT:FALSE
SUMMARY:BREAKFAST\, BUSINESS & MORE
DESCRIPTION:premier morning networking even which allows busy professionals the chance to network and to exchange opportunities
X-ALT-DESC;FMTTYPE=text/html:premier morning networking even which allows busy professionals the chance to network and to exchange opportunities
LOCATION:PLYMOUTH CHURCH (WAVELAND ROOM 4) 4126 INGERSOLL AVENUE DES MOINES\, IA 50312
UID:e.1185.4919
SEQUENCE:3
DTSTAMP:20260421T034326Z
URL:http://getaquote-mobile.uniquelyurbandale.com/events/details/breakfast-business-more-4919
END:VEVENT

END:VCALENDAR
