BEGIN:VCALENDAR
VERSION:2.0
PRODID:-//ChamberMaster//Event Calendar 2.0//EN
METHOD:PUBLISH
X-PUBLISHED-TTL:P3D
REFRESH-INTERVAL:P3D
CALSCALE:GREGORIAN
BEGIN:VEVENT
DTSTART:20170110T140000Z
DTEND:20170110T150000Z
X-MICROSOFT-CDO-ALLDAYEVENT:FALSE
SUMMARY:BREAKFAST\, BUSINESS & MORE
DESCRIPTION:Des Moines' premier morning networking event which allows busy professionals the chance to network and to exchange opportunities
X-ALT-DESC;FMTTYPE=text/html:Des Moines&#39\; premier morning networking event which allows busy professionals the chance to network and to exchange opportunities
LOCATION:Plymouth Church Waveland 4 4126 Ingersoll Des Moines\, IA 50312
UID:e.1185.4974
SEQUENCE:3
DTSTAMP:20260421T064418Z
URL:http://getaquote-mobile.uniquelyurbandale.com/events/details/breakfast-business-more-01-10-2017-4974
END:VEVENT

END:VCALENDAR
