BEGIN:VCALENDAR
VERSION:2.0
PRODID:-//ChamberMaster//Event Calendar 2.0//EN
METHOD:PUBLISH
X-PUBLISHED-TTL:P3D
REFRESH-INTERVAL:P3D
CALSCALE:GREGORIAN
BEGIN:VEVENT
DTSTART:20220126T143000Z
DTEND:20220126T153000Z
X-MICROSOFT-CDO-ALLDAYEVENT:FALSE
SUMMARY:Board Meeting - Virtual Only
DESCRIPTION:This is the monthly meeting for the Urbandale Chamber Board of Directors
X-ALT-DESC;FMTTYPE=text/html:This is the monthly meeting for the Urbandale Chamber Board of Directors
LOCATION:This Board Meeting will be held virtual only
UID:e.1185.2650
SEQUENCE:3
DTSTAMP:20260425T002018Z
URL:http://getaquote-mobile.uniquelyurbandale.com/events/details/board-meeting-virtual-only-2650
END:VEVENT

END:VCALENDAR
