BEGIN:VCALENDAR
VERSION:2.0
PRODID:-//ChamberMaster//Event Calendar 2.0//EN
METHOD:PUBLISH
X-PUBLISHED-TTL:P3D
REFRESH-INTERVAL:P3D
CALSCALE:GREGORIAN
BEGIN:VEVENT
DTSTART:20210929T133000Z
DTEND:20210929T143000Z
X-MICROSOFT-CDO-ALLDAYEVENT:FALSE
SUMMARY:Board Meeting
DESCRIPTION:Monthly Board Meeting
X-ALT-DESC;FMTTYPE=text/html:<span style="font-size:14px\;"><span style="font-family:arial\;">Monthly Board Meeting</span></span>
LOCATION:Offered both in person in the Rodan Board Room at the Urbandale Chamber Office or virtually via Zoom. Please register so we know who is attending in person and who is attending virtually.
UID:e.1185.2646
SEQUENCE:3
DTSTAMP:20260424T184316Z
URL:http://getaquote-mobile.uniquelyurbandale.com/events/details/board-meeting-09-29-2021-2646
END:VEVENT

END:VCALENDAR
