BEGIN:VCALENDAR
VERSION:2.0
PRODID:-//ChamberMaster//Event Calendar 2.0//EN
METHOD:PUBLISH
X-PUBLISHED-TTL:P3D
REFRESH-INTERVAL:P3D
CALSCALE:GREGORIAN
BEGIN:VEVENT
DTSTART:20170112T223000Z
DTEND:20170113T010000Z
X-MICROSOFT-CDO-ALLDAYEVENT:FALSE
SUMMARY:Block Advisors 1st Anniversary-Open House
DESCRIPTION:Come celebrate Block Advisors first anniversary with an open house! Join us for food\, drinks\, fun\, and door prizes!
X-ALT-DESC;FMTTYPE=text/html:Come celebrate Block Advisors first anniversary with an open house! Join us for food\, drinks\, fun\, and door prizes!
LOCATION:2981 100th St. Urbandale
UID:e.1185.5101
SEQUENCE:3
DTSTAMP:20260421T064426Z
URL:http://getaquote-mobile.uniquelyurbandale.com/events/details/block-advisors-1st-anniversary-open-house-5101
END:VEVENT

END:VCALENDAR
