BEGIN:VCALENDAR
VERSION:2.0
PRODID:-//ChamberMaster//Event Calendar 2.0//EN
METHOD:PUBLISH
X-PUBLISHED-TTL:P3D
REFRESH-INTERVAL:P3D
CALSCALE:GREGORIAN
BEGIN:VEVENT
DTSTART:20170625T180000Z
DTEND:20170626T030000Z
X-MICROSOFT-CDO-ALLDAYEVENT:FALSE
SUMMARY:Big Country Bash
DESCRIPTION:THE BASH IS BACK! Sunday\, June 25th I Urbandale\, IA I Living History Farms. Lineup: Runaway June\, Michael Ray\, Tracy Lawrence\, LOCASH & Billy Currington. The gates open at NOON with the first act taking the stage at 1PM. This is a family friendly event (kids 12 & under free) in a beautiful park setting\, food trucks\, several bars serving Miller Lite products\, Jasper Winery wines and cocktails featuring Hornitos Tequila\, Pinnacle Vodka & Jim Beam. Be sure to stop over to the expo area for shopping & activities\, such a mechanical bull. Chairs allowed in designated areas of festival grounds products and the evening ends with a fireworks display at 9:30PM. Tickets On-Sale NOW area Northern Lights Pizza locations or through www.925nashicon.com & @www.nasshfm973.com Tickets just $40 for general admission\, plus taxes & fees. Kids 12 & under are FREE for general admission. VIP Tickets are also available which include special access to a V.I.P. viewing area\, (2) drink tickets\, (2) meals\, a commemorative lanyard & festival t-shirt. Be sure to stay tuned to Facebook for the most up to date information as we release more details! Thank you to our sponsors: Iowa Beverage Systems (Miller Lite)\, Northern Lights Pizza\, Bob & Jo's RV Center\, Jasper Winery\, Cricket Wireless\, Iowa Egg Council\, Decades Event Center and Dr Pepper.
X-ALT-DESC;FMTTYPE=text/html:THE BASH IS BACK! Sunday\, June 25th I Urbandale\, IA I Living History Farms. Lineup: Runaway June\, Michael Ray\, Tracy Lawrence\, LOCASH &amp\; Billy Currington. The gates open at NOON with the first act taking the stage at 1PM. This is a family friendly event (kids 12 &amp\; under free) in a beautiful park setting\, food trucks\, several bars serving Miller Lite products\, Jasper Winery wines and cocktails featuring Hornitos Tequila\, Pinnacle Vodka &amp\; Jim Beam. Be sure to stop over to the expo area for shopping &amp\; activities\, such a mechanical bull. Chairs allowed in designated areas of festival grounds products and the evening ends with a fireworks display at 9:30PM. Tickets On-Sale NOW area Northern Lights Pizza locations or through www.925nashicon.com &amp\; @www.nasshfm973.com Tickets just $40 for general admission\, plus taxes &amp\; fees. Kids 12 &amp\; under are FREE for general admission. VIP Tickets are also available which include special access to a V.I.P. viewing area\, (2) drink tickets\, (2) meals\, a commemorative lanyard &amp\; festival t-shirt. Be sure to stay tuned to Facebook for the most up to date information as we release more details! Thank you to our sponsors: Iowa Beverage Systems (Miller Lite)\, Northern Lights Pizza\, Bob &amp\; Jo&#39\;s RV Center\, Jasper Winery\, Cricket Wireless\, Iowa Egg Council\, Decades Event Center and Dr Pepper.
LOCATION:Living history Farms
UID:e.1185.6561
SEQUENCE:3
DTSTAMP:20260421T132157Z
URL:http://getaquote-mobile.uniquelyurbandale.com/events/details/big-country-bash-6561
END:VEVENT

END:VCALENDAR
