BEGIN:VCALENDAR
VERSION:2.0
PRODID:-//ChamberMaster//Event Calendar 2.0//EN
METHOD:PUBLISH
X-PUBLISHED-TTL:P3D
REFRESH-INTERVAL:P3D
CALSCALE:GREGORIAN
BEGIN:VEVENT
DTSTART:20181213T220000Z
DTEND:20181214T003000Z
X-MICROSOFT-CDO-ALLDAYEVENT:FALSE
SUMMARY:BerganKDV Holiday Business and Brews
DESCRIPTION:BROUGHT TO YOU BY BERGANKDV | DO MORE. Head into the holidays feeling confident. Everything from tax reform to cybersecurity. Preparing you for all the major changes that are about to occur. All over a brew. TOPICS INCLUDE: Tax Reform Legislation State and Local Tax Legislation Cybersecurity Investment Strategies An event you aren't going to want to miss. We're bringing in the top experts to share their most applicable knowledge\, exclusive tips and recommendations. We'll conclude the content portion of our event with a review of end of the year planning and best practices\, so you can head into the holidays feeling confident about your year ahead.
X-ALT-DESC;FMTTYPE=text/html:BROUGHT TO YOU BY BERGANKDV | DO MORE. Head into the holidays feeling confident. Everything from tax reform to cybersecurity. Preparing you for all the major changes that are about to occur. All over a brew. TOPICS INCLUDE: Tax Reform Legislation State and Local Tax Legislation Cybersecurity Investment Strategies An event you aren&rsquo\;t going to want to miss. We&rsquo\;re bringing in the top experts to share their most applicable knowledge\, exclusive tips and recommendations. We&rsquo\;ll conclude the content portion of our event with a review of end of the year planning and best practices\, so you can head into the holidays feeling confident about your year ahead.
LOCATION:Exile Brewing Company 1514 Walnut Street Des Moines\, IA 50309
UID:e.1185.8732
SEQUENCE:3
DTSTAMP:20260422T172533Z
URL:http://getaquote-mobile.uniquelyurbandale.com/events/details/bergankdv-holiday-business-and-brews-8732
END:VEVENT

END:VCALENDAR
