BEGIN:VCALENDAR
VERSION:2.0
PRODID:-//ChamberMaster//Event Calendar 2.0//EN
METHOD:PUBLISH
X-PUBLISHED-TTL:P3D
REFRESH-INTERVAL:P3D
CALSCALE:GREGORIAN
BEGIN:VEVENT
DTSTART:20160614T220000Z
DTEND:20160615T000000Z
X-MICROSOFT-CDO-ALLDAYEVENT:FALSE
SUMMARY:BBQ\, Bocce Ball & Templeton Rye Rendezvous
DESCRIPTION:Father's Day Rendezvous Join us for an evening of BBQ\, Bocce Ball & Templeton Rye on our patio! Templeton Rye will be sampling drinks and our Renovo Chefs will be grilling out while we play bocce ball on our patio.
X-ALT-DESC;FMTTYPE=text/html:Father&rsquo\;s Day Rendezvous Join us for an evening of BBQ\, Bocce Ball &amp\; Templeton Rye on our patio! Templeton Rye will be sampling drinks and our Renovo Chefs will be grilling out while we play bocce ball on our patio.
LOCATION:Hotel Renovo 11167 Hickman Rd Urbandale\, 50322
UID:e.1185.4819
SEQUENCE:3
DTSTAMP:20260420T195651Z
URL:http://getaquote-mobile.uniquelyurbandale.com/events/details/bbq-bocce-ball-templeton-rye-rendezvous-06-14-2016-4819
END:VEVENT

END:VCALENDAR
