BEGIN:VCALENDAR
VERSION:2.0
PRODID:-//ChamberMaster//Event Calendar 2.0//EN
METHOD:PUBLISH
X-PUBLISHED-TTL:P3D
REFRESH-INTERVAL:P3D
CALSCALE:GREGORIAN
BEGIN:VEVENT
DTSTART:20201111T000000Z
DTEND:20201111T000000Z
X-MICROSOFT-CDO-ALLDAYEVENT:FALSE
SUMMARY:Basics of Parliamentary Procedure for Community Members
DESCRIPTION:Are you interested in taking on a volunteer leadership role with a nonprofit organization\, a school\, your church or local city government?  \n\n\n\nBasics of Parliamentary Procedure for community members is a free session open to the public.  Pre-registration is required for each session.  Presented by Laura M. Meade\, Professional Registered Parliamentarian.  \n\n\n\n To register call 515-278-3945 or visit www.urbandalelibrary.org
X-ALT-DESC;FMTTYPE=text/html:Are you interested in taking on a volunteer leadership role with a nonprofit organization\, a school\, your church or local city government?&nbsp\;&nbsp\;<br />\n<br />\nBasics of Parliamentary Procedure for community members is a free session open to the public.&nbsp\; Pre-registration is required for each session.&nbsp\; Presented by Laura M. Meade\, Professional Registered Parliamentarian.&nbsp\;&nbsp\;<br />\n<br />\n&#8203\;To register call 515-278-3945 or visit www.urbandalelibrary.org&nbsp\;
LOCATION:Zoom
UID:e.1185.10962
SEQUENCE:3
DTSTAMP:20260424T043744Z
URL:http://getaquote-mobile.uniquelyurbandale.com/events/details/basics-of-parliamentary-procedure-for-community-members-10962
END:VEVENT

END:VCALENDAR
