BEGIN:VCALENDAR
VERSION:2.0
PRODID:-//ChamberMaster//Event Calendar 2.0//EN
METHOD:PUBLISH
X-PUBLISHED-TTL:P3D
REFRESH-INTERVAL:P3D
CALSCALE:GREGORIAN
BEGIN:VEVENT
DTSTART:20170614T160000Z
DTEND:20170614T180000Z
X-MICROSOFT-CDO-ALLDAYEVENT:FALSE
SUMMARY:Bankers Trust turns 100!
DESCRIPTION:Bankers Trust turns 100 in 2017 and is inviting the Urbandale community to a party on Wednesday\, June 14\, from 11:00 am - 1:00 pm at their North Branch location at 3905 Merle Hay Road\, Urbandale. The North Branch is hosting the event with the Merle Hay Neighborhood Association. Come for free food\, games\, and giveaways.
X-ALT-DESC;FMTTYPE=text/html:Bankers Trust turns 100 in 2017 and is inviting the Urbandale community to a party on Wednesday\, June 14\, from 11:00 am - 1:00 pm at their North Branch location at 3905 Merle Hay Road\, Urbandale. The North Branch is hosting the event with the Merle Hay Neighborhood Association. Come for free food\, games\, and giveaways.
LOCATION:Bankers Trust - 3905 Merle Hay Road\, Urbandale\, Iowa
UID:e.1185.6566
SEQUENCE:3
DTSTAMP:20260421T132421Z
URL:http://getaquote-mobile.uniquelyurbandale.com/events/details/bankers-trust-turns-100-6566
END:VEVENT

END:VCALENDAR
