BEGIN:VCALENDAR
VERSION:2.0
PRODID:-//ChamberMaster//Event Calendar 2.0//EN
METHOD:PUBLISH
X-PUBLISHED-TTL:P3D
REFRESH-INTERVAL:P3D
CALSCALE:GREGORIAN
BEGIN:VEVENT
DTSTART;VALUE=DATE:20170612
DTEND;VALUE=DATE:20170613
TRANSP:TRANSPARENT
X-MICROSOFT-CDO-ALLDAYEVENT:TRUE
SUMMARY:Audi quattro® Cup
DESCRIPTION:Tee off in the 2017 Audi quattro Cup Monday\, June 12 at The Legacy Golf Club in support of The ALS Association Iowa Chapter! \n\n\n\nGolfers may participate as a traditional four-some best shot\, or as a competitive two-some with current USGA handicaps. The winning team advances to the Audi quattro Cup USA Final at Kiawah Island Golf Resort\, SC.\n\n\n\n$125 per golfer: includes lunch\, 18 holes of golf with cart\, and awards.\n\n\n\n7:30am: Competitive two-some tee time\n\n11:30am: Registration\, boxed lunch and silent auction\n\n1:00pm: Traditional four-some tee time\n\nPost tournament\, silent auction and 50/50 raffle to follow golf.\n\n\n\nRegister and view the full #quattroCup Tournament Schedule athttps://audiquattrocup.us/
X-ALT-DESC;FMTTYPE=text/html:<span style="color:rgb(75\, 79\, 86)\; font-family:san francisco\,-apple-system\,system-ui\,.sfnstext-regular\,sans-serif\; font-size:14px">Tee off in the 2017&nbsp\;</span><a href="https://audiquattrocup.us" target="_blank">Audi quattro Cup</a><span style="color:rgb(75\, 79\, 86)\; font-family:san francisco\,-apple-system\,system-ui\,.sfnstext-regular\,sans-serif\; font-size:14px">&nbsp\;Monday\, June 12 at&nbsp\;</span>The Legacy Golf Club<span style="color:rgb(75\, 79\, 86)\; font-family:san francisco\,-apple-system\,system-ui\,.sfnstext-regular\,sans-serif\; font-size:14px">&nbsp\;in support of&nbsp\;</span>The ALS Association Iowa Chapter<span style="color:rgb(75\, 79\, 86)\; font-family:san francisco\,-apple-system\,system-ui\,.sfnstext-regular\,sans-serif\; font-size:14px">!&nbsp\;</span><br />\n<br />\n<span style="color:rgb(75\, 79\, 86)\; font-family:san francisco\,-apple-system\,system-ui\,.sfnstext-regular\,sans-serif\; font-size:14px">Golfers may participate as a traditional four-some best shot\, or as a competitive two-some with current USGA handicaps.&nbsp\;</span><span style="color:rgb(75\, 79\, 86)\; font-family:san francisco\,-apple-system\,system-ui\,.sfnstext-regular\,sans-serif\; font-size:14px">The winning team advances to the&nbsp\;</span><a href="https://www.facebook.com/events/447033475634577/?acontext=%7B%22source%22%3A1%2C%22action_history%22%3A%22%5B%7B%5C%22surface%5C%22%3A%5C%22page%5C%22%2C%5C%22mechanism%5C%22%3A%5C%22page_upcoming_events_card%5C%22%2C%5C%22extra_data%5C%22%3A%5B%5D%7D%2C%7B%5C%22surface%5C%22%3A%5C%22permalink%5C%22%2C%5C%22mechanism%5C%22%3A%5C%22surface%5C%22%2C%5C%22extra_data%5C%22%3A%5B%5D%7D%2C%7B%5C%22surface%5C%22%3A%5C%22permalink%5C%22%2C%5C%22mechanism%5C%22%3A%5C%22event_information%5C%22%2C%5C%22extra_data%5C%22%3A%7B%5C%22tag%5C%22%3A%5C%22Sports+%5C%5Cu22c5+Recreation%5C%22%7D%7D%5D%22%2C%22has_source%22%3Atrue%7D&amp\;source=1&amp\;action_history=%5B%7B%22surface%22%3A%22page%22%2C%22mechanism%22%3A%22page_upcoming_events_card%22%2C%22extra_data%22%3A%5B%5D%7D%2C%7B%22surface%22%3A%22permalink%22%2C%22mechanism%22%3A%22surface%22%2C%22extra_data%22%3A%5B%5D%7D%2C%7B%22surface%22%3A%22permalink%22%2C%22mechanism%22%3A%22event_information%22%2C%22extra_data%22%3A%7B%22tag%22%3A%22Sports+%5Cu22c5+Recreation%22%7D%7D%5D&amp\;has_source=1" style="color: rgb(54\, 88\, 153)\; cursor: pointer\; text-decoration-line: none\; font-family: &quot\;San Francisco&quot\;\, -apple-system\, system-ui\, &quot\;.SFNSText-Regular&quot\;\, sans-serif\; font-size: 14px\; letter-spacing: -0.24px\;">Audi quattro Cup USA Final</a><span style="color:rgb(75\, 79\, 86)\; font-family:san francisco\,-apple-system\,system-ui\,.sfnstext-regular\,sans-serif\; font-size:14px">&nbsp\;at Kiawah Island Golf Resort\, SC.</span><br />\n<br />\n<span style="color:rgb(75\, 79\, 86)\; font-family:san francisco\,-apple-system\,system-ui\,.sfnstext-regular\,sans-serif\; font-size:14px">$125 per golfer: includes lunch\, 18 holes of golf with cart\, and awards.</span><br />\n<br />\n<span style="color:rgb(75\, 79\, 86)\; font-family:san francisco\,-apple-system\,system-ui\,.sfnstext-regular\,sans-serif\; font-size:14px">7:30am: Competitive two-some tee time</span><br />\n<span style="color:rgb(75\, 79\, 86)\; font-family:san francisco\,-apple-system\,system-ui\,.sfnstext-regular\,sans-serif\; font-size:14px">11:30am: Registration\, boxed lunch and silent auction</span><br />\n<span style="color:rgb(75\, 79\, 86)\; font-family:san francisco\,-apple-system\,system-ui\,.sfnstext-regular\,sans-serif\; font-size:14px">1:00pm: Traditional four-some tee time</span><br />\n<span style="color:rgb(75\, 79\, 86)\; font-family:san francisco\,-apple-system\,system-ui\,.sfnstext-regular\,sans-serif\; font-size:14px">Post tournament\, silent auction and 50/50 raffle to follow golf.</span><br />\n<br />\n<span style="color:rgb(75\, 79\, 86)\; font-family:san francisco\,-apple-system\,system-ui\,.sfnstext-regular\,sans-serif\; font-size:14px">Register and view the full&nbsp\;</span><a class="_58cn" href="https://www.facebook.com/hashtag/quattrocup" style="color: rgb(54\, 88\, 153)\; cursor: pointer\; text-decoration-line: none\; font-family: &quot\;San Francisco&quot\;\, -apple-system\, system-ui\, &quot\;.SFNSText-Regular&quot\;\, sans-serif\; font-size: 14px\; letter-spacing: -0.24px\;">#quattroCup</a><span style="color:rgb(75\, 79\, 86)\; font-family:san francisco\,-apple-system\,system-ui\,.sfnstext-regular\,sans-serif\; font-size:14px">&nbsp\;Tournament Schedule </span><span style="color:rgb(75\, 79\, 86)\; font-family:san francisco\,-apple-system\,system-ui\,.sfnstext-regular\,sans-serif\; font-size:14px">at</span><a href="https://audiquattrocup.us/" rel="nofollow noopener nofollow" style="color: rgb(54\, 88\, 153)\; cursor: pointer\; text-decoration-line: none\; font-family: &quot\;San Francisco&quot\;\, -apple-system\, system-ui\, &quot\;.SFNSText-Regular&quot\;\, sans-serif\; font-size: 14px\; letter-spacing: -0.24px\;" target="_blank">https</a><a href="https://audiquattrocup.us/" rel="nofollow noopener nofollow" style="color: rgb(54\, 88\, 153)\; cursor: pointer\; text-decoration-line: none\; font-family: &quot\;San Francisco&quot\;\, -apple-system\, system-ui\, &quot\;.SFNSText-Regular&quot\;\, sans-serif\; font-size: 14px\; letter-spacing: -0.24px\;" target="_blank">://audiquattrocup.us/</a>
LOCATION:The Legacy Golf Club 400 Legacy Pkwy Norwalk\, IA 50211
UID:e.1185.6565
SEQUENCE:3
DTSTAMP:20260421T132156Z
URL:http://getaquote-mobile.uniquelyurbandale.com/events/details/audi-quattro-cup-6565
END:VEVENT

END:VCALENDAR
