BEGIN:VCALENDAR
VERSION:2.0
PRODID:-//ChamberMaster//Event Calendar 2.0//EN
METHOD:PUBLISH
X-PUBLISHED-TTL:P3D
REFRESH-INTERVAL:P3D
CALSCALE:GREGORIAN
BEGIN:VEVENT
DTSTART:20190207T190000Z
DTEND:20190207T230000Z
X-MICROSOFT-CDO-ALLDAYEVENT:FALSE
SUMMARY:Attivo Trail 55+ Active Living Grand Opening Event in Waukee
DESCRIPTION:You are invited to tour our brand new 55+ Active Living Community in Waukee on February 7th from 1-5pm. Attivo Trail opens in February 2019! \n\n\n\nStop by to meet our Attivo Trail Team\, and see what life will be like at the beautiful and prestigious community. \n\n\n\nAt Attivo Trail\, we make it simple! There is no buy-in fee and rent includes several services and features you just won't find anywhere else! Plus\, we will be giving away a 5 day\, 4 night cruise certificate to one of our lucky attendees!
X-ALT-DESC;FMTTYPE=text/html:<span style="color:rgb(29\, 33\, 41)\; font-family:system-ui\,-apple-system\,system-ui\,.sfnstext-regular\,sans-serif\; font-size:14px">You are invited to tour our brand new 55+ Active Living Community in Waukee on February 7th from 1-5pm. Attivo Trail opens in February 2019! </span><br />\n<br />\n<span style="color:rgb(29\, 33\, 41)\; font-family:system-ui\,-apple-system\,system-ui\,.sfnstext-regular\,sans-serif\; font-size:14px">Stop by to meet our Attivo Trail Team\, and see what life will be like at the beautiful and prestigious community. </span><br />\n<br />\n<span style="color:rgb(29\, 33\, 41)\; font-family:system-ui\,-apple-system\,system-ui\,.sfnstext-regular\,sans-serif\; font-size:14px">At Attivo Trail\, we make it simple! There is no buy-in fee and rent includes several services and features you just won&#39\;t find anywhere else! Plus\, we will be giving away a 5 day\, 4 night cruise certificate to one of our lucky attendees!</span>&nbsp\; &nbsp\;
LOCATION:835 NE Boston Parkway\, Waukee\, IA
UID:e.1185.9664
SEQUENCE:3
DTSTAMP:20260422T185128Z
URL:http://getaquote-mobile.uniquelyurbandale.com/events/details/attivo-trail-55-active-living-grand-opening-event-in-waukee-9664
END:VEVENT

END:VCALENDAR
