BEGIN:VCALENDAR
VERSION:2.0
PRODID:-//ChamberMaster//Event Calendar 2.0//EN
METHOD:PUBLISH
X-PUBLISHED-TTL:P3D
REFRESH-INTERVAL:P3D
CALSCALE:GREGORIAN
BEGIN:VEVENT
DTSTART:20170408T164500Z
DTEND:20170408T211500Z
X-MICROSOFT-CDO-ALLDAYEVENT:FALSE
SUMMARY:April 8\, 2017 DSM Sushi Roll
DESCRIPTION:We hope you can join us for the April 8\, 2017 DSM Sushi Roll! I've rented a party bus to drive us around Des Moines to sample some of it's finest sushi. Won't you join us? Arrive at Appare at 11:45am to check in. Sushi will be served buffet-style at noon. Your ticket includes: Pick up (12:30pm) and drop off (4:15pm) at Appare Steakhouse (3769 86th St.\, Urbandale). Sushi stops at Samurai Sushi\, Urbandale Hy-Vee\, Waterfront and Banana Leaf\, for a total of at least 14 pieces. We'll wrap up the afternoon at Appare. Coolers with ice on the bus to store BYO Beverages   NO GLASS BOTTLES ALLOWED. Since we will have alcohol on the bus\, all passengers must be 21 or older. If you have any questions\, please contact me\, Suzanne Hull\, at 515-250-6366 or suzanne@contemporary-business-solutions.com
X-ALT-DESC;FMTTYPE=text/html:We hope you can join us for the April 8\, 2017 DSM Sushi Roll! I&#39\;ve rented a party bus to drive us around Des Moines to sample some of it&#39\;s finest sushi. Won&#39\;t you join us? Arrive at Appare at 11:45am to check in. Sushi will be served buffet-style at noon. Your ticket includes: Pick up (12:30pm) and drop off (4:15pm) at Appare Steakhouse (3769 86th St.\, Urbandale). Sushi stops at Samurai Sushi\, Urbandale Hy-Vee\, Waterfront and Banana Leaf\, for a total of at least 14 pieces. We&#39\;ll wrap up the afternoon at Appare. Coolers with ice on the bus to store BYO Beverages &ndash\; NO GLASS BOTTLES ALLOWED. Since we will have alcohol on the bus\, all passengers must be 21 or older. If you have any questions\, please contact me\, Suzanne Hull\, at 515-250-6366 or suzanne@contemporary-business-solutions.com
LOCATION:Pick Up and Drop Off at Appare Steakhouse 3769 86th St. Urbandale\, IA 50322
UID:e.1185.5160
SEQUENCE:3
DTSTAMP:20260421T103356Z
URL:http://getaquote-mobile.uniquelyurbandale.com/events/details/april-8-2017-dsm-sushi-roll-5160
END:VEVENT

END:VCALENDAR
