BEGIN:VCALENDAR
VERSION:2.0
PRODID:-//ChamberMaster//Event Calendar 2.0//EN
METHOD:PUBLISH
X-PUBLISHED-TTL:P3D
REFRESH-INTERVAL:P3D
CALSCALE:GREGORIAN
BEGIN:VEVENT
DTSTART:20160924T140000Z
DTEND:20160924T210000Z
X-MICROSOFT-CDO-ALLDAYEVENT:FALSE
SUMMARY:Applefest
DESCRIPTION:Spend the afternoon in our 1875 town celebrating all things apple! Try your hand at stirring the copper kettle of apple butter and take your turn cranking the cider press. Children's games and crafts round out the fun. Fresh local apples and other goodies will be on sale in the Visitor Center. Activities run 10:30am - 3:30pm.
X-ALT-DESC;FMTTYPE=text/html:Spend the afternoon in our 1875 town celebrating all things apple! Try your hand at stirring the copper kettle of apple butter and take your turn cranking the cider press. Children&#39\;s games and crafts round out the fun. Fresh local apples and other goodies will be on sale in the Visitor Center. Activities run 10:30am - 3:30pm.
LOCATION:Living History Farms 11121 Hickman Road Urbandale\, IA 50322
UID:e.1185.4710
SEQUENCE:3
DTSTAMP:20260421T003245Z
URL:http://getaquote-mobile.uniquelyurbandale.com/events/details/applefest-09-24-2016-4710
END:VEVENT

END:VCALENDAR
