BEGIN:VCALENDAR
VERSION:2.0
PRODID:-//ChamberMaster//Event Calendar 2.0//EN
METHOD:PUBLISH
X-PUBLISHED-TTL:P3D
REFRESH-INTERVAL:P3D
CALSCALE:GREGORIAN
BEGIN:VEVENT
DTSTART:20140930T123000Z
DTEND:20140930T133000Z
X-MICROSOFT-CDO-ALLDAYEVENT:FALSE
SUMMARY:AM Exchange\, Presented by Susan Bonnicksen/Superior Printing and Promotions
DESCRIPTION:People do business with those they know\, like and trust.  What better place to start building relationships than our AM Exchanges?!  Urbandale Chamber of Commerce AM Exchange allows members a strategic networking opportunity to gather and do business in the morning.\n\nNEW TWIST IN 2014!! From 7:30   7:45 a.m. everyone networks.  At 7:45 a.m.\, attendees form a circle.  Chamber members will introduce themselves and say one unique thing about their business/service.  (Guests will be introduced by one of our Chamber Connectors). After we have gone around the circle\, you will turn to your neighbor on your left and then on your right and tell them who a good referral is for you and why.  \n\nSponsor: State Farm Insurance Mark Courter and the Urbandale Parks and Recreation Department.  \n\nLocation: EJ Giovannetti Shelter\, in Walker Johnston Park (9000 Douglas Ave\, Urbandale)\n\nTime: 7:30-8:30 AM\n\nCost:  Included in your membership\, but RSVP's are requested to accommodate for food and beverages.
X-ALT-DESC;FMTTYPE=text/html:<p>People do business with those they know\, like and trust. &nbsp\;What better place to start building relationships than our AM Exchanges?! &nbsp\;Urbandale Chamber of Commerce AM Exchange allows members a strategic networking opportunity to gather and do business in the morning.</p>\n\n<p>NEW TWIST IN 2014!! From 7:30 &ndash\; 7:45 a.m. everyone networks.&nbsp\; At 7:45 a.m.\, attendees form a circle.&nbsp\; Chamber members will introduce themselves and say one unique thing about their business/service. &nbsp\;(Guests will be introduced by one of our Chamber Connectors). After we have gone around the circle\, you will turn to your neighbor on your left and then on your right and tell them who a good referral is for you and why. &nbsp\;</p>\n\n<p>Sponsor: State Farm Insurance Mark Courter and the Urbandale Parks and Recreation Department. &nbsp\;<br />\nLocation: EJ Giovannetti Shelter\, in Walker Johnston Park (9000 Douglas Ave\, Urbandale)<br />\nTime: 7:30-8:30 AM<br />\nCost:&nbsp\; Included in your membership\, but RSVP&rsquo\;s are requested to accommodate for food and beverages.</p>\n
LOCATION:EJ Giovannetti Shelter\, in Walker Johnston Park (9000 Douglas Ave\, Urbandale)
UID:e.1185.3740
SEQUENCE:3
DTSTAMP:20260419T142220Z
URL:http://getaquote-mobile.uniquelyurbandale.com/events/details/am-exchange-presented-by-susan-bonnicksen-superior-printing-and-promotions-09-30-2014-3740
END:VEVENT

END:VCALENDAR
