BEGIN:VCALENDAR
VERSION:2.0
PRODID:-//ChamberMaster//Event Calendar 2.0//EN
METHOD:PUBLISH
X-PUBLISHED-TTL:P3D
REFRESH-INTERVAL:P3D
CALSCALE:GREGORIAN
BEGIN:VEVENT
DTSTART:20150922T123000Z
DTEND:20150922T133000Z
X-MICROSOFT-CDO-ALLDAYEVENT:FALSE
SUMMARY:AM Exchange\, Presented by Susan Bonnicksen/Superior Printing and Promotions
DESCRIPTION:People do business with those they know\, like and trust.  What better place to start building relationships than our AM Exchanges?! Urbandale Chamber of Commerce AM Exchange allows members a strategic networking opportunity to gather and do business in the morning.\n\nFrom 7:30-7:45 a.m. everyone networks.  At 7:45 a.m.\, attendees form a circle.  Chamber members will introduce themselves by name and business.  (Guests will be introduced by one of our Chamber Connectors). After we have gone around the circle\, you will turn to your neighbor on your left and then on your right and tell them who a good referral is for you and why.  \n\nSponsor: Mark Courter State Farm Insurance\n\nLocation: Urbandale High School Media Center (7111 Aurora Ave\, Urbandale).\n\n    Please note: Enter through the library doors on the WEST end of the building (not the main entrance).  Please park in either the swimming pool parking area\, the senior center parking area or on the side streets.  We ask you NOT to park in the spaces at the high school with the blue stripes.  Thank you. \n\nTime: 7:30-8:30 AM\n\nCost:  Included in your membership\, but RSVPs are requested to accommodate for food and beverages.
X-ALT-DESC;FMTTYPE=text/html:<p><span style="font-size:14px\;"><span style="font-family:arial\;">People do business with those they know\, like and trust. &nbsp\;What better place to start building relationships than our AM Exchanges?!&nbsp\;Urbandale Chamber of Commerce AM Exchange allows members a strategic networking opportunity to gather and do business in the morning.</span></span></p>\n\n<p><span style="font-size:14px\;"><span style="font-family:arial\;">From 7:30-7:45 a.m. everyone networks.&nbsp\; At 7:45 a.m.\, attendees form a circle.&nbsp\; Chamber members will introduce themselves by name and business. &nbsp\;(Guests will be introduced by one of our Chamber Connectors). After we have gone around the circle\, you will turn to your neighbor on your left and then on your right and tell them who a good referral is for you and why. &nbsp\;</span></span></p>\n\n<p><span style="font-size:14px\;"><span style="font-family:arial\;">Sponsor: Mark Courter State Farm Insurance<br />\nLocation: Urbandale High School Media Center (7111 Aurora Ave\, Urbandale).<br />\n&nbsp\; &nbsp\; Please note: Enter through the library doors on the WEST end of the building (not the main entrance). &nbsp\;Please park&nbsp\;in either the swimming pool parking area\, the senior center parking area or on the side streets.&nbsp\; We ask you NOT to&nbsp\;park in the spaces at the high school with the blue stripes. &nbsp\;Thank you.&nbsp\;<br />\nTime: 7:30-8:30 AM<br />\nCost:&nbsp\; Included in your membership\, but RSVPs are requested to accommodate for food and beverages.</span></span></p>\n
LOCATION:Urbandale High School Media Center (7111 Aurora Ave\, Urbandale).
UID:e.1185.4092
SEQUENCE:3
DTSTAMP:20260420T070416Z
URL:http://getaquote-mobile.uniquelyurbandale.com/events/details/am-exchange-presented-by-susan-bonnicksen-superior-printing-and-promotions-09-22-2015-4092
END:VEVENT

END:VCALENDAR
