BEGIN:VCALENDAR
VERSION:2.0
PRODID:-//ChamberMaster//Event Calendar 2.0//EN
METHOD:PUBLISH
X-PUBLISHED-TTL:P3D
REFRESH-INTERVAL:P3D
CALSCALE:GREGORIAN
BEGIN:VEVENT
DTSTART:20150728T123000Z
DTEND:20150728T133000Z
X-MICROSOFT-CDO-ALLDAYEVENT:FALSE
SUMMARY:AM Exchange\, Presented by Susan Bonnicksen/Superior Printing and Promotions
DESCRIPTION:People do business with those they know\, like and trust.  What better place to start building relationships than our AM Exchanges?! Urbandale Chamber of Commerce AM Exchange allows members a strategic networking opportunity to gather and do business in the morning.\n\nFrom 7:30-7:45 a.m. everyone networks.  At 7:45 a.m.\, attendees form a circle.  Chamber members will introduce themselves by name and business.  (Guests will be introduced by one of our Chamber Connectors). After we have gone around the circle\, you will turn to your neighbor on your left and then on your right and tell them who a good referral is for you and why.  \n\nSponsor/Host: Triplett Office Essentials (3553 109th Street\, Urbandale)\n\nTime: 7:30-8:30 AM\n\nCost:  Included in your membership\, but RSVPs are requested to accommodate for food and beverages.
X-ALT-DESC;FMTTYPE=text/html:<p>People do business with those they know\, like and trust. &nbsp\;What better place to start building relationships than our AM Exchanges?!&nbsp\;Urbandale Chamber of Commerce AM Exchange allows members a strategic networking opportunity to gather and do business in the morning.</p>\n\n<p>From 7:30-7:45 a.m. everyone networks.&nbsp\; At 7:45 a.m.\, attendees form a circle.&nbsp\; Chamber members will introduce themselves by name and business. &nbsp\;(Guests will be introduced by one of our Chamber Connectors). After we have gone around the circle\, you will turn to your neighbor on your left and then on your right and tell them who a good referral is for you and why. &nbsp\;</p>\n\n<p>Sponsor/Host:&nbsp\;Triplett<span style="line-height: 18.9090900421143px\;">&nbsp\;Office Essentials (</span><span style="line-height: 18.9090900421143px\;">3553&nbsp\;</span>109th<span style="line-height: 18.9090900421143px\;">&nbsp\;Street\, Urbandale)</span><br />\nTime: 7:30-8:30 AM<br />\nCost:&nbsp\; Included in your membership\, but RSVPs are requested to accommodate for food and beverages.</p>\n
LOCATION:Triplett Office Essentials (3553 109th Street\, Urbandale)
UID:e.1185.4090
SEQUENCE:3
DTSTAMP:20260420T042503Z
URL:http://getaquote-mobile.uniquelyurbandale.com/events/details/am-exchange-presented-by-susan-bonnicksen-superior-printing-and-promotions-07-28-2015-4090
END:VEVENT

END:VCALENDAR
