BEGIN:VCALENDAR
VERSION:2.0
PRODID:-//ChamberMaster//Event Calendar 2.0//EN
METHOD:PUBLISH
X-PUBLISHED-TTL:P3D
REFRESH-INTERVAL:P3D
CALSCALE:GREGORIAN
BEGIN:VEVENT
DTSTART:20140225T133000Z
DTEND:20140225T143000Z
X-MICROSOFT-CDO-ALLDAYEVENT:FALSE
SUMMARY:AM Exchange\, Presented by Susan Bonnicksen/Superior Printing and Promotions
DESCRIPTION:Urbandale Chamber of Commerce AM Exchange allows members a strategic networking opportunity to gather and do business in the morning.\n\n	From 7:30   7:45 a.m. everyone networks.  At 7:45 a.m.\, attendees form a circle.  Chamber members will introduce themselves and provide a 30-second commercial on their business/service.  Guests will be introduced by one of our Chamber Ambassadors.\n\n	Sponsor/Host: Abendroth & Russell (2560 73rd St.\, Urbandale)\n\n	Time: 7:30-8:30 AM\n\n	Cost:  Included in your membership\, but RSVP's are requested to accommodate for food and beverages.
X-ALT-DESC;FMTTYPE=text/html:<p>\n	Urbandale Chamber of Commerce AM Exchange allows members a strategic networking opportunity to gather and do business in the morning.</p>\n<p>\n	From 7:30 &ndash\; 7:45 a.m. everyone networks.&nbsp\; At 7:45 a.m.\, attendees form a circle.&nbsp\; Chamber members will introduce themselves and provide a 30-second commercial on their business/service.&nbsp\; Guests will be introduced by one of our Chamber Ambassadors.</p>\n<p>\n	Sponsor/Host: Abendroth &amp\; Russell (2560 73rd St.\, Urbandale)<br />\n	Time: 7:30-8:30 AM<br />\n	Cost:&nbsp\; Included in your membership\, but RSVP&rsquo\;s are requested to accommodate for food and beverages.</p>\n
LOCATION:Abendroth & Russell (2560 73rd St.\, Urbandale)
UID:e.1185.2447
SEQUENCE:3
DTSTAMP:20260419T222444Z
URL:http://getaquote-mobile.uniquelyurbandale.com/events/details/am-exchange-presented-by-susan-bonnicksen-superior-printing-and-promotions-02-25-2014-2447
END:VEVENT

END:VCALENDAR
