BEGIN:VCALENDAR
VERSION:2.0
PRODID:-//ChamberMaster//Event Calendar 2.0//EN
METHOD:PUBLISH
X-PUBLISHED-TTL:P3D
REFRESH-INTERVAL:P3D
CALSCALE:GREGORIAN
BEGIN:VEVENT
DTSTART:20170509T223000Z
DTEND:20170510T000000Z
X-MICROSOFT-CDO-ALLDAYEVENT:FALSE
SUMMARY:All About Mom-Renovo Rendezvous
DESCRIPTION:Mother's Day Rendezvous It's all about Mom here at Renovo! Enjoy desserts courtesy of 1924 Bake Shop\, sip on prosecco and shop our local vendor pop-up. While you're here have your picture taken with Lauren Campbell Photography. Date: Tuesday\, May 9th\, 2017 Time: 5:30pm Place: Hotel Renovo
X-ALT-DESC;FMTTYPE=text/html:Mother&rsquo\;s Day Rendezvous It&rsquo\;s all about Mom here at Renovo! Enjoy desserts courtesy of 1924 Bake Shop\, sip on prosecco and shop our local vendor pop-up. While you&rsquo\;re here have your picture taken with Lauren Campbell Photography. Date: Tuesday\, May 9th\, 2017 Time: 5:30pm Place: Hotel Renovo
LOCATION:Hotel Renovo 11167 Hickman Rd-Urbandale
UID:e.1185.6205
SEQUENCE:3
DTSTAMP:20260421T132322Z
URL:http://getaquote-mobile.uniquelyurbandale.com/events/details/all-about-mom-renovo-rendezvous-6205
END:VEVENT

END:VCALENDAR
