BEGIN:VCALENDAR
VERSION:2.0
PRODID:-//ChamberMaster//Event Calendar 2.0//EN
METHOD:PUBLISH
X-PUBLISHED-TTL:P3D
REFRESH-INTERVAL:P3D
CALSCALE:GREGORIAN
BEGIN:VEVENT
DTSTART:20160714T170000Z
DTEND:20160714T180000Z
X-MICROSOFT-CDO-ALLDAYEVENT:FALSE
SUMMARY:Affordable Care Act Seminar
DESCRIPTION:Does the Affordable Care Act (ACA) confuse you? Have you heard the term Obamacare thrown around\, but question how this affects you and your business? Are your current employee benefit plans compliant with the ACA? Are you required to provide health coverage to your employees? Is your noncompliance subjecting you to the $100 per day per employee penalty? At Konek\, P.C. we believe that knowledge is power and invite you to join us for a free seminar covering the Affordable Care Act (ACA) topic. The above questions and more will be unpacked to give you the knowledge to ensure that your company is compliant with the government's regulations regarding the ACA.
X-ALT-DESC;FMTTYPE=text/html:Does the Affordable Care Act (ACA) confuse you? Have you heard the term Obamacare thrown around\, but question how this affects you and your business? Are your current employee benefit plans compliant with the ACA? Are you required to provide health coverage to your employees? Is your noncompliance subjecting you to the $100 per day per employee penalty? At Konek\, P.C. we believe that knowledge is power and invite you to join us for a free seminar covering the Affordable Care Act (ACA) topic. The above questions and more will be unpacked to give you the knowledge to ensure that your company is compliant with the government&rsquo\;s regulations regarding the ACA.
LOCATION:1503 42nd Street Suite 100 West Des Moines\, IA 50266
UID:e.1185.4853
SEQUENCE:3
DTSTAMP:20260420T212411Z
URL:http://getaquote-mobile.uniquelyurbandale.com/events/details/affordable-care-act-seminar-07-14-2016-4853
END:VEVENT

END:VCALENDAR
