BEGIN:VCALENDAR
VERSION:2.0
PRODID:-//ChamberMaster//Event Calendar 2.0//EN
METHOD:PUBLISH
X-PUBLISHED-TTL:P3D
REFRESH-INTERVAL:P3D
CALSCALE:GREGORIAN
BEGIN:VEVENT
DTSTART:20161208T143000Z
DTEND:20161208T200000Z
X-MICROSOFT-CDO-ALLDAYEVENT:FALSE
SUMMARY:ActionCOACH Annual Planning Day
DESCRIPTION:Develop your 2017 Action Plan!\n\nStart 2017 strong with clear priorities and the tools and mindset you need to achieve your goals by attending Annual Planning Day. You'll walk away with an Action Plan that will keep you focused and working toward specific achievements in your business objectives.\n\n\n\nTake your dreams and goals and turn them into an actionable 2017 business plan so you can continue to build success within your organization and life.\n\n\n\nOver the course of the workshop\, you'll learn priceless and PROVEN techniques of:\n\n  Create energy and focus for your next business year\n\n  Create an action plan to accomplish your top business goals\n\n  Build confidence and decision-making skills to take your business to the next level!\n\n\n\nWhat would you attempt to do in 2017 if you knew you couldn't fail?\n\n\n\nWorkshop Details:\n\nPreregistration is required\n\nDate: Thursday\, December 8th\n\nTime: 8:30 AM - 2:00 PM\n\nCost: $79.95 (includes breakfast & lunch)\n\nLocation: Fairfield Inn & Suites Des Moines Urbandale\, 8661 Plum Dr.\, Urbandale\, IA 50322\n\n \n\nFor more information: email gregthompson@actioncoach.com
X-ALT-DESC;FMTTYPE=text/html:<h2>Develop your 2017 Action Plan!</h2>\n\n<p>Start 2017 strong with clear priorities and the tools and mindset you need to achieve your&nbsp\;goals by attending Annual Planning Day. You&rsquo\;ll walk away with an Action Plan that will keep&nbsp\;you focused and working toward specific achievements in your&nbsp\;business objectives.</p>\n\n<p><br />\nTake your dreams and goals and turn them into an actionable 2017 business plan so you&nbsp\;can continue to build success within your organization and life.</p>\n\n<p><br />\nOver the course of the workshop\, you&rsquo\;ll learn priceless and PROVEN techniques of:</p>\n\n<p>&bull\; Create energy and focus for your next business year</p>\n\n<p>&bull\; Create an action plan to accomplish your top business goals</p>\n\n<p>&bull\; Build confidence and decision-making skills to take your business to the next level!</p>\n\n<h3><br />\nWhat would you attempt to do in 2017 if you knew you couldn&rsquo\;t fail?</h3>\n\n<p><br />\n<strong>Workshop Details:</strong></p>\n\n<p>Preregistration is required<br />\nDate:&nbsp\;<strong>Thursday</strong>\, December 8th<br />\nTime: 8:30 AM - 2:00 PM<br />\nCost: $79.95 (includes breakfast &amp\; lunch)<br />\nLocation: Fairfield Inn &amp\; Suites Des Moines Urbandale\,&nbsp\;8661 Plum Dr.\, Urbandale\, IA 50322</p>\n\n<p>&nbsp\;</p>\n\n<p>For more information:&nbsp\;email gregthompson@actioncoach.com</p>\n
LOCATION:Fairfield Inn & Suites Des Moines Urbandale 8661 Plum Dr.\, Urbandale\, IA 50322
UID:e.1185.4944
SEQUENCE:3
DTSTAMP:20260421T051436Z
URL:http://getaquote-mobile.uniquelyurbandale.com/events/details/actioncoach-annual-planning-day-4944
END:VEVENT

END:VCALENDAR
