BEGIN:VCALENDAR
VERSION:2.0
PRODID:-//ChamberMaster//Event Calendar 2.0//EN
METHOD:PUBLISH
X-PUBLISHED-TTL:P3D
REFRESH-INTERVAL:P3D
CALSCALE:GREGORIAN
BEGIN:VEVENT
DTSTART:20210410T140000Z
DTEND:20210410T173000Z
X-MICROSOFT-CDO-ALLDAYEVENT:FALSE
SUMMARY:ACT/SAT Boot Camp
DESCRIPTION:ACT Boot Camp\n\n\n\n\n\n\nAbout this Event\n\n\n\nThe ACT/SAT Boot Camp is a 3.5 Hour Intensive Course. Includes Overview of the SAT and ACT. You will learn proven Strategies for ALL Test Sections\, Gain Confidence in a Small Group Setting.  Space is limited to 12 people for social distancing.\n\n \n\nCourse Includes:\n\n  In-depth Diagnostic Test for the SAT and ACT\n\n  Targeted Instruction from an Expert Test Prep Tutor\n\n  Interactive Lessons with Immediate Test Feedback\n\n  Proven Strategies for Success\n\n  30 Days of Access to our Online Study Portal\n\n\n\nCost is $99 per student.  \n\nRegister today!\n\n\n\nClick here for more information
X-ALT-DESC;FMTTYPE=text/html:<div class="g-group l-lg-mar-bot-6 l-md-mar-bot-4  " helvetica="" neue="" style="margin: 0px 0px 30px\; padding: 0px\; font-size: 0px\; letter-spacing: 0px\; color: rgb(57\, 54\, 79)\; font-family: ">\n<div class="g-cell g-cell-10-12 g-cell-md-1-1" style="margin: 0px\; padding: 0px 15px\; width: 560px\; box-sizing: border-box\; display: inline-block\; overflow: hidden\; vertical-align: top\; letter-spacing: 0.5px\; font-size: 0.933333rem\; line-height: 1.25rem\;">\n<div class="has-user-generated-content" style="margin: 0px\; padding: 0px\;">\n<div class="text-body-medium" data-automation="listing-event-description" style="margin: 0px\; padding: 0px\; font-size: 0.933333rem\; line-height: 1.25rem\;"><span style="font-size:18px\;"><span style="font-weight: 700\; padding-top: 0px\;">ACT Boot Camp</span></span></div>\n</div>\n</div>\n</div>\n\n<div class="g-group l-mar-bot-6 l-sm-mar-bot-4" helvetica="" neue="" style="margin: 0px 0px 30px\; padding: 0px\; font-size: 0px\; letter-spacing: 0px\; color: rgb(57\, 54\, 79)\; font-family: ">\n<div class="structured-content g-cell g-cell-10-12 g-cell-md-1-1" style="margin: 0px\; padding: 0px 15px\; width: 560px\; box-sizing: border-box\; display: inline-block\; overflow: hidden\; vertical-align: top\; letter-spacing: 0.5px\; font-size: 0.933333rem\; line-height: 1.25rem\;">\n<h2 class="text-body-large hide-small" style="margin: 0px -0.25px 0px 0px\; padding: 0px\; font-weight: 600\; font-size: 1.2rem\; line-height: 1.5rem\; letter-spacing: 0.25px\;"><span style="font-size:14px\;">About this Event</span></h2>\n\n<div class="has-user-generated-content" data-automation="about-this-event-sc" style="margin: 0px\; padding: 0px\;">\n<div class="structured-content-rich-text structured-content__module l-align-left l-mar-vert-6 l-sm-mar-vert-4 text-body-medium" style="margin: 30px 0px\; padding: 0px\; font-size: 0.933333rem\; line-height: 1.25rem\; text-rendering: optimizelegibility\;">\n<p style="margin: 0px\; padding: 0px\; color: rgb(111\, 114\, 135)\; font-size: 16px\; line-height: 1.5rem\;">The ACT/SAT Boot Camp is a 3.5 Hour Intensive Course. Includes Overview of the SAT and ACT. You will learn proven Strategies for ALL Test Sections\, Gain Confidence in a Small Group Setting.&nbsp\; Space is limited to 12 people for social distancing.</p>\n\n<p style="margin: 0px\; padding: 10px 0px 0px\; color: rgb(111\, 114\, 135)\; font-size: 16px\; line-height: 1.5rem\;">&nbsp\;</p>\n\n<p style="margin: 0px\; padding: 10px 0px 0px\; color: rgb(111\, 114\, 135)\; font-size: 16px\; line-height: 1.5rem\;">Course Includes:</p>\n\n<p style="margin: 0px\; padding: 10px 0px 0px\; color: rgb(111\, 114\, 135)\; font-size: 16px\; line-height: 1.5rem\;">&bull\; In-depth Diagnostic Test for the SAT and ACT</p>\n\n<p style="margin: 0px\; padding: 10px 0px 0px\; color: rgb(111\, 114\, 135)\; font-size: 16px\; line-height: 1.5rem\;">&bull\; Targeted Instruction from an Expert Test Prep Tutor</p>\n\n<p style="margin: 0px\; padding: 10px 0px 0px\; color: rgb(111\, 114\, 135)\; font-size: 16px\; line-height: 1.5rem\;">&bull\; Interactive Lessons with Immediate Test Feedback</p>\n\n<p style="margin: 0px\; padding: 10px 0px 0px\; color: rgb(111\, 114\, 135)\; font-size: 16px\; line-height: 1.5rem\;">&bull\; Proven Strategies for Success</p>\n\n<p style="margin: 0px\; padding: 10px 0px 0px\; color: rgb(111\, 114\, 135)\; font-size: 16px\; line-height: 1.5rem\;">&bull\; 30 Days of Access to our Online Study Portal<br />\n<br />\nCost is $99 per student.&nbsp\;&nbsp\;<br />\n<a href="https://www.eventbrite.com/e/act-boot-camp-tickets-141301983035?aff=esfb&amp\;utm-campaign=social&amp\;utm-content=attendeeshare&amp\;utm-medium=discovery&amp\;utm-source=fb&amp\;utm-term=checkoutwidget&amp\;fbclid=IwAR0bJeLIkg3_0hedLyqY_6rx2qL3LG2ZDCtlaenvwSiR4NVE2rFzKEur90U">Register today!</a><br />\n<br />\n<a href="https://chambermaster.blob.core.windows.net/userfiles/UserFiles/chambers/1185/File/BootCampApril10th21.pdf">Click here for more information</a></p>\n</div>\n</div>\n</div>\n</div>\n
LOCATION:Urbandale Chamber of Commerce 2830 100th St.\, Ste. 110 Urbandale\, IA 50322
UID:e.1185.11250
SEQUENCE:3
DTSTAMP:20260424T112359Z
URL:http://getaquote-mobile.uniquelyurbandale.com/events/details/act-sat-boot-camp-11250
END:VEVENT

END:VCALENDAR
