BEGIN:VCALENDAR
VERSION:2.0
PRODID:-//ChamberMaster//Event Calendar 2.0//EN
METHOD:PUBLISH
X-PUBLISHED-TTL:P3D
REFRESH-INTERVAL:P3D
CALSCALE:GREGORIAN
BEGIN:VEVENT
DTSTART:20190704T230000Z
DTEND:20190705T033000Z
X-MICROSOFT-CDO-ALLDAYEVENT:FALSE
SUMMARY:4th of July Picnic & Fireworks
DESCRIPTION:Hey neighbors! You're invited to our annual 4th of July Picnic & Fireworks at Creekside Church! The grills light up at 6PM. We'll provide the burgers\, hot dogs and drinks. Please bring a side/salad and dessert to share. After you eat\, join in the fun and games kickball\, giant Jenga\, and more (Bring an outdoor game if you like)! The sky lights up at 10PM. Stick around for a great view of the Urbandale fireworks starting at dusk. We'll be popping popcorn and serving slushies\, so bring lawn chairs or blankets and spread out on our north lawn with a snack and enjoy the show!
X-ALT-DESC;FMTTYPE=text/html:Hey neighbors! You&#39\;re invited to our annual 4th of July Picnic &amp\; Fireworks at Creekside Church! The grills light up at 6PM. We&rsquo\;ll provide the burgers\, hot dogs and drinks. Please bring a side/salad and dessert to share. After you eat\, join in the fun and games&mdash\;kickball\, giant Jenga\, and more (Bring an outdoor game if you like)! The sky lights up at 10PM. Stick around for a great view of the Urbandale fireworks starting at dusk. We&rsquo\;ll be popping popcorn and serving slushies\, so bring lawn chairs or blankets and spread out on our north lawn with a snack and enjoy the show!
LOCATION:Creekside Church
UID:e.1185.9992
SEQUENCE:3
DTSTAMP:20260423T042844Z
URL:http://getaquote-mobile.uniquelyurbandale.com/events/details/4th-of-july-picnic-fireworks-07-04-2019-9992
END:VEVENT

END:VCALENDAR
