BEGIN:VCALENDAR
VERSION:2.0
PRODID:-//ChamberMaster//Event Calendar 2.0//EN
METHOD:PUBLISH
X-PUBLISHED-TTL:P3D
REFRESH-INTERVAL:P3D
CALSCALE:GREGORIAN
BEGIN:VEVENT
DTSTART:20210515T150000Z
DTEND:20210516T190000Z
X-MICROSOFT-CDO-ALLDAYEVENT:FALSE
SUMMARY:2021 Polk County Master Gardeners Plant Sale & More May 15 – 16\, 2021"
DESCRIPTION:2021 Polk County Master Gardeners Plant Sale & More Large variety of perennials including: ornamental grasses\, daylily\, hosta\, iris\, coral bells\, sedum\, and many more. Sale also includes lily bulbs\, elephant ear and limited quantities of veggies and annual flowers. More: There will be a market for gardening tools\, pots\, books\, etc. COVID Precautions: Gardeners will be wearing masks and practicing social distancing. All clients who are in the sales and pick-up areas are asked to do the same. We operate under ISU Extension and Outreach guidelines. All proceeds benefit Polk County Master Gardeners
X-ALT-DESC;FMTTYPE=text/html:2021 Polk County Master Gardeners Plant Sale &amp\; More Large variety of perennials including: ornamental grasses\, daylily\, hosta\, iris\, coral bells\, sedum\, and many more. Sale also includes lily bulbs\, elephant ear and limited quantities of veggies and annual flowers. More: There will be a market for gardening tools\, pots\, books\, etc. COVID Precautions: Gardeners will be wearing masks and practicing social distancing. All clients who are in the sales and pick-up areas are asked to do the same. We operate under ISU Extension and Outreach guidelines. All proceeds benefit Polk County Master Gardeners
LOCATION:Demonstration Garden 92nd and Dewey Gibbs\, Urbandale Iowa (next to Valerius Elementary School)
UID:e.1185.11278
SEQUENCE:3
DTSTAMP:20260424T124753Z
URL:http://getaquote-mobile.uniquelyurbandale.com/events/details/2021-polk-county-master-gardeners-plant-sale-more-may-15-16-2021-11278
END:VEVENT

END:VCALENDAR
