BEGIN:VCALENDAR
VERSION:2.0
PRODID:-//ChamberMaster//Event Calendar 2.0//EN
METHOD:PUBLISH
X-PUBLISHED-TTL:P3D
REFRESH-INTERVAL:P3D
CALSCALE:GREGORIAN
BEGIN:VEVENT
DTSTART:20190409T230000Z
DTEND:20190410T000000Z
X-MICROSOFT-CDO-ALLDAYEVENT:FALSE
SUMMARY:2019 All Urbandale Reads Book Announcement
DESCRIPTION:Join us as the All Urbandale Reads book selection is announced during a special proclamation signing during the Urbandale City Council Meeting (City Council Chambers\, 3600 86th Street). The announcement will also be made that evening inside the library\, via social media\, and on the library's website - please join us in person or online! All Urbandale Reads encourages everyone to read and discuss the same book. The goal is to strengthen community spirit by connecting residents to literature through reading and discussion.
X-ALT-DESC;FMTTYPE=text/html:Join us as the All Urbandale Reads book selection is announced during a special proclamation signing during the Urbandale City Council Meeting (City Council Chambers\, 3600 86th Street). The announcement will also be made that evening inside the library\, via social media\, and on the library&#39\;s website - please join us in person or online! All Urbandale Reads encourages everyone to read and discuss the same book. The goal is to strengthen community spirit by connecting residents to literature through reading and discussion.
LOCATION:Urbandale City Council Chambers & Urbandale Public Library
UID:e.1185.9958
SEQUENCE:3
DTSTAMP:20260422T220117Z
URL:http://getaquote-mobile.uniquelyurbandale.com/events/details/2019-all-urbandale-reads-book-announcement-9958
END:VEVENT

END:VCALENDAR
