BEGIN:VCALENDAR
VERSION:2.0
PRODID:-//ChamberMaster//Event Calendar 2.0//EN
METHOD:PUBLISH
X-PUBLISHED-TTL:P3D
REFRESH-INTERVAL:P3D
CALSCALE:GREGORIAN
BEGIN:VEVENT
DTSTART;VALUE=DATE:20150714
DTEND;VALUE=DATE:20150715
TRANSP:TRANSPARENT
X-MICROSOFT-CDO-ALLDAYEVENT:TRUE
SUMMARY:2015 Building Futures Career Fair and Conference
DESCRIPTION:Building the future of Des Moines' workforce together!\n\nJoin the collaboration of distinct organizations that have partnered to connect employers and job seekers.\n\n\n\nTuesday\, June 14\, 2015\n\n9:30 am - 4:00 pm\n\nKaplan University Campus (4655 121st Street\, Urbandale)\n\n\n\nItinerary:\n\n9:30-9:45: Job Seeker Check-In\n\n9:45-10:15: Seminar Option A or B\n\n10:30-11:00: Seminar Option C or D\n\n10:30: Employer Check-in\n\n11:00-1:00: Career Fair\n\n1:00-2:00: Employer Lunch\n\n2:00-3:15: Employer Mini Seminar\n\n3:15-4:00: Employer Reception\n\n\n\nGet registered today!  \n\nEmployers register at http://ow.ly/KQTuC\n\nJob seekers register at: http://ow.ly/N8TdE
X-ALT-DESC;FMTTYPE=text/html:Building the future of Des Moines&#39\; workforce together!<br />\nJoin the collaboration of distinct organizations that have partnered to connect employers and job&nbsp\;seekers.<br />\n<br />\nTuesday\, June 14\, 2015<br />\n9:30 am - 4:00 pm<br />\nKaplan University Campus (4655&nbsp\;121st Street\, Urbandale)<br />\n<br />\nItinerary:<br />\n9:30-9:45: Job Seeker Check-In<br />\n9:45-10:15: Seminar Option A or B<br />\n10:30-11:00: Seminar Option C or D<br />\n10:30: Employer Check-in<br />\n11:00-1:00: Career Fair<br />\n1:00-2:00: Employer Lunch<br />\n2:00-3:15: Employer Mini Seminar<br />\n3:15-4:00: Employer Reception<br />\n<br />\nGet registered today! &nbsp\;<br />\nEmployers register at http://ow.ly/KQTuC<br />\nJob seekers register at: http://ow.ly/N8TdE
LOCATION:Kaplan University (4655 N.W. 121st St.\, Urbandale)
UID:e.1185.4173
SEQUENCE:3
DTSTAMP:20260420T041800Z
URL:http://getaquote-mobile.uniquelyurbandale.com/events/details/2015-building-futures-career-fair-and-conference-07-14-2015-4173
END:VEVENT

END:VCALENDAR
