BEGIN:VCALENDAR
VERSION:2.0
PRODID:-//ChamberMaster//Event Calendar 2.0//EN
METHOD:PUBLISH
X-PUBLISHED-TTL:P3D
REFRESH-INTERVAL:P3D
CALSCALE:GREGORIAN
BEGIN:VEVENT
DTSTART:20170517T163000Z
DTEND:20170517T180000Z
X-MICROSOFT-CDO-ALLDAYEVENT:FALSE
SUMMARY:19th Annual Women Helping Women Luncheon
DESCRIPTION:Please register for Des Moines Pastoral Counseling Center's 19th annual Women Helping Women luncheon to benefit vulnerable women and girls who need quality mental health counseling.
X-ALT-DESC;FMTTYPE=text/html:Please register for Des Moines Pastoral Counseling Center&#39\;s 19th annual Women Helping Women luncheon to benefit vulnerable women and girls who need quality mental health counseling.
LOCATION:Embassy Suites Downtown\, Des Moines
UID:e.1185.5116
SEQUENCE:3
DTSTAMP:20260421T120521Z
URL:http://getaquote-mobile.uniquelyurbandale.com/events/details/19th-annual-women-helping-women-luncheon-5116
END:VEVENT

END:VCALENDAR
