BEGIN:VCALENDAR
VERSION:2.0
PRODID:-//ChamberMaster//Event Calendar 2.0//EN
METHOD:PUBLISH
X-PUBLISHED-TTL:P3D
REFRESH-INTERVAL:P3D
CALSCALE:GREGORIAN
BEGIN:VEVENT
DTSTART:20160513T163000Z
DTEND:20160513T180000Z
X-MICROSOFT-CDO-ALLDAYEVENT:FALSE
SUMMARY:18th Annual Women Helping Women Luncheon
DESCRIPTION:Women Helping Women supports vulnerable girls and women who need professional mental health counseling.
X-ALT-DESC;FMTTYPE=text/html:Women Helping Women supports vulnerable girls and women who need professional mental health counseling.
LOCATION:Embassy Suites downtown Des Moines
UID:e.1185.4770
SEQUENCE:3
DTSTAMP:20260420T195954Z
URL:http://getaquote-mobile.uniquelyurbandale.com/events/details/18th-annual-women-helping-women-luncheon-05-13-2016-4770
END:VEVENT

END:VCALENDAR
